BEGIN:VCALENDAR
VERSION:2.0
PRODID:-// - ECPv6.11.2.1//NONSGML v1.0//EN
CALSCALE:GREGORIAN
METHOD:PUBLISH
X-ORIGINAL-URL:https://kanepa.com
X-WR-CALDESC:Events for 
REFRESH-INTERVAL;VALUE=DURATION:PT1H
X-Robots-Tag:noindex
X-PUBLISHED-TTL:PT1H
BEGIN:VTIMEZONE
TZID:UTC
BEGIN:STANDARD
TZOFFSETFROM:+0000
TZOFFSETTO:+0000
TZNAME:UTC
DTSTART:20260101T000000
END:STANDARD
END:VTIMEZONE
BEGIN:VEVENT
DTSTART;TZID=UTC:20260217T170000
DTEND;TZID=UTC:20260217T220000
DTSTAMP:20260419T134934
CREATED:20260129T201522Z
LAST-MODIFIED:20260129T201522Z
UID:5319-1771347600-1771365600@kanepa.com
SUMMARY:Fat Tuesday Party
DESCRIPTION:Come enjoy your PHAT Tuesday with us at CJ Spirits! Yes\, it’s that time of year again so bring your masks and beads to our Fat Tuesday party! Tuesday\, February 17th at 5 pm the party begins! We will have fun eats\, delicious cocktails and live music for all! Root 321 will begin playing at 6! Don’t miss this great night out with us!! Beads and masks will be provided:)
URL:https://kanepa.com/event/fat-tuesday-party/
LOCATION:CJ Spirits\, 120 Willow Run Drive\, Kane\, PA\, 16735\, United States
END:VEVENT
END:VCALENDAR