BEGIN:VCALENDAR
VERSION:2.0
PRODID:-// - ECPv6.11.2.1//NONSGML v1.0//EN
CALSCALE:GREGORIAN
METHOD:PUBLISH
X-ORIGINAL-URL:https://kanepa.com
X-WR-CALDESC:Events for 
REFRESH-INTERVAL;VALUE=DURATION:PT1H
X-Robots-Tag:noindex
X-PUBLISHED-TTL:PT1H
BEGIN:VTIMEZONE
TZID:UTC
BEGIN:STANDARD
TZOFFSETFROM:+0000
TZOFFSETTO:+0000
TZNAME:UTC
DTSTART:20250101T000000
END:STANDARD
END:VTIMEZONE
BEGIN:VEVENT
DTSTART;TZID=UTC:20250115T170000
DTEND;TZID=UTC:20250115T180000
DTSTAMP:20260419T153609
CREATED:20250108T162827Z
LAST-MODIFIED:20250108T162827Z
UID:4819-1736960400-1736964000@kanepa.com
SUMMARY:Wednesday Drive-up Dinners- by the Kane Community Methodist Church
DESCRIPTION:This week is hot dog\, baked beans\, chips and no bakes. Call 814-837-7120 by Tuesday at noon to reserve your meal this week. There is no charge\, but donations are accepted.
URL:https://kanepa.com/event/wednesday-drive-up-dinners-by-the-kane-community-methodist-church/
LOCATION:Methodist Church\, 112 Greeves St\, Kane\, PA\, 16735
CATEGORIES:Food
END:VEVENT
BEGIN:VEVENT
DTSTART;TZID=UTC:20250115T190000
DTEND;TZID=UTC:20250115T203000
DTSTAMP:20260419T153609
CREATED:20241218T153747Z
LAST-MODIFIED:20241218T153747Z
UID:4788-1736967600-1736973000@kanepa.com
SUMMARY:TAMED Meeting at CJ Spirits
DESCRIPTION:
URL:https://kanepa.com/event/tamed-meeting-at-cj-spirits/
LOCATION:CJ Spirits\, 120 Willow Run Drive\, Kane\, PA\, 16735\, United States
END:VEVENT
BEGIN:VEVENT
DTSTART;TZID=UTC:20250117T200000
DTEND;TZID=UTC:20250117T230000
DTSTAMP:20260419T153609
CREATED:20250114T185417Z
LAST-MODIFIED:20250114T185417Z
UID:4828-1737144000-1737154800@kanepa.com
SUMMARY:Live Music\, Jared Hill at Twisted Vine Winery
DESCRIPTION:
URL:https://kanepa.com/event/live-music-jared-hill-at-twisted-vine-winery/
LOCATION:Twisted Vine Winery\, 117 N Fraley St\, Kane\, PA\, 16735
END:VEVENT
BEGIN:VEVENT
DTSTART;TZID=UTC:20250118T103000
DTEND;TZID=UTC:20250118T113000
DTSTAMP:20260419T153609
CREATED:20250107T152049Z
LAST-MODIFIED:20250107T152049Z
UID:4793-1737196200-1737199800@kanepa.com
SUMMARY:Winter Storytime at Friends Memorial Library
DESCRIPTION:
URL:https://kanepa.com/event/winter-storytime-at-friends-memorial-library/
LOCATION:Friends Memorial Public Library\, 230 Chase Street\, Kane\, PA\, 16735\, United States
CATEGORIES:Activity,Community,Family Friendly
END:VEVENT
BEGIN:VEVENT
DTSTART;TZID=UTC:20250118T160000
DTEND;TZID=UTC:20250118T200000
DTSTAMP:20260419T153609
CREATED:20241126T181542Z
LAST-MODIFIED:20241126T181542Z
UID:4729-1737216000-1737230400@kanepa.com
SUMMARY:Ladies Night Out Vendor Show with Between the Pines at Wilds Sonshine Factory
DESCRIPTION:
URL:https://kanepa.com/event/ladies-night-out-vendor-show-with-between-the-pines-at-wilds-sonshine-factory/
LOCATION:Wilds Sonshine Factory\, 3480 Route 6 West\, Kane\, PA\, 16735\, United States
END:VEVENT
BEGIN:VEVENT
DTSTART;TZID=UTC:20250118T160000
DTEND;TZID=UTC:20250118T200000
DTSTAMP:20260419T153609
CREATED:20250107T165828Z
LAST-MODIFIED:20250107T165828Z
UID:4799-1737216000-1737230400@kanepa.com
SUMMARY:Girls Night Out Vendor Show at Wilds Sonshine Factory
DESCRIPTION:
URL:https://kanepa.com/event/girls-night-out-vendor-show-at-wilds-sonshine-factory/
LOCATION:Wilds Sonshine Factory\, 3480 Route 6 West\, Kane\, PA\, 16735\, United States
ATTACH;FMTTYPE=image/jpeg:https://kanepa.com/wp-content/uploads/2025/01/471424254_1388963719107863_2703321181805280274_n.jpg
END:VEVENT
BEGIN:VEVENT
DTSTART;TZID=UTC:20250118T160000
DTEND;TZID=UTC:20250118T200000
DTSTAMP:20260419T153609
CREATED:20250107T172349Z
LAST-MODIFIED:20250107T172349Z
UID:4805-1737216000-1737230400@kanepa.com
SUMMARY:Live Music and Food Truck at Wilds Sonshine Factory
DESCRIPTION:Miranda Wilcox Music and Bill-Yums Good Eats Food Truck
URL:https://kanepa.com/event/live-music-and-food-truck-at-wilds-sonshine-factory/
LOCATION:Wilds Sonshine Factory\, 3480 Route 6 West\, Kane\, PA\, 16735\, United States
END:VEVENT
BEGIN:VEVENT
DTSTART;TZID=UTC:20250118T170000
DTEND;TZID=UTC:20250118T200000
DTSTAMP:20260419T153609
CREATED:20241126T181639Z
LAST-MODIFIED:20241126T181639Z
UID:4730-1737219600-1737230400@kanepa.com
SUMMARY:Live Music\, Miranda Wilcox at Wilds Sonshine Factory
DESCRIPTION:
URL:https://kanepa.com/event/live-music-miranda-wilcox-at-wilds-sonshine-factory/
LOCATION:Wilds Sonshine Factory\, 3480 Route 6 West\, Kane\, PA\, 16735\, United States
CATEGORIES:Music
END:VEVENT
BEGIN:VEVENT
DTSTART;TZID=UTC:20250119T120000
DTEND;TZID=UTC:20250119T160000
DTSTAMP:20260419T153609
CREATED:20250107T171648Z
LAST-MODIFIED:20250107T171648Z
UID:4801-1737288000-1737302400@kanepa.com
SUMMARY:Homemade Holidays- Winter Carnival
DESCRIPTION:
URL:https://kanepa.com/event/homemade-holidays-winter-carnival/
LOCATION:Homemade Holidays\, 133 Biddle Street\, Kane\, PA\, 16735\, United States
CATEGORIES:Family Friendly
ATTACH;FMTTYPE=image/jpeg:https://kanepa.com/wp-content/uploads/2025/01/471855140_10162238689218351_2401789786885445996_n.jpg
END:VEVENT
BEGIN:VEVENT
DTSTART;TZID=UTC:20250119T140000
DTEND;TZID=UTC:20250119T160000
DTSTAMP:20260419T153609
CREATED:20250114T185502Z
LAST-MODIFIED:20250114T185502Z
UID:4829-1737295200-1737302400@kanepa.com
SUMMARY:Motivational Author\, Nicole Burke at Twisted Vine Winery
DESCRIPTION:
URL:https://kanepa.com/event/motivational-author-nicole-burke-at-twisted-vine-winery/
LOCATION:Twisted Vine Winery\, 117 N Fraley St\, Kane\, PA\, 16735
END:VEVENT
BEGIN:VEVENT
DTSTART;TZID=UTC:20250119T160000
DTEND;TZID=UTC:20250119T190000
DTSTAMP:20260419T153609
CREATED:20250108T163055Z
LAST-MODIFIED:20250108T163055Z
UID:4820-1737302400-1737313200@kanepa.com
SUMMARY:Live Music\, Kallie Williams at Table 105
DESCRIPTION:
URL:https://kanepa.com/event/live-music-kallie-williams-at-table-105-2/
LOCATION:Table 105\, 105 N Fraley St\, Kane\, PA
CATEGORIES:Music
END:VEVENT
BEGIN:VEVENT
DTSTART;TZID=UTC:20250120T180000
DTEND;TZID=UTC:20250120T190000
DTSTAMP:20260419T153609
CREATED:20250115T152536Z
LAST-MODIFIED:20250115T152536Z
UID:4839-1737396000-1737399600@kanepa.com
SUMMARY:Community Yoga with Karen Haberberger at KACC
DESCRIPTION:Every Monday night from 6-7pm form 1/13 to 3/3!
URL:https://kanepa.com/event/community-yoga-with-karen-haberberger-at-kacc/
LOCATION:Kane Area Community Center\, 46 N. Fraley Street\, Kane\, PA\, 16735\, United States
ATTACH;FMTTYPE=image/jpeg:https://kanepa.com/wp-content/uploads/2025/01/yoga.jpg
END:VEVENT
BEGIN:VEVENT
DTSTART;TZID=UTC:20250121T100000
DTEND;TZID=UTC:20250121T110000
DTSTAMP:20260419T153609
CREATED:20250108T163220Z
LAST-MODIFIED:20250108T163220Z
UID:4821-1737453600-1737457200@kanepa.com
SUMMARY:Kane 2 Head Start Fashion Show
DESCRIPTION:
URL:https://kanepa.com/event/kane-2-head-start-fashion-show/
LOCATION:Chestnut Street Center\, 226 Chestnut Street\, Kane\, PA
END:VEVENT
BEGIN:VEVENT
DTSTART;TZID=UTC:20250122T170000
DTEND;TZID=UTC:20250122T180000
DTSTAMP:20260419T153609
CREATED:20250108T163447Z
LAST-MODIFIED:20250108T163447Z
UID:4822-1737565200-1737568800@kanepa.com
SUMMARY:Wednesday Drive-up Dinner at Kane Community Methodist Church
DESCRIPTION:This week is Hamburg gravy\, mashed potatoes\, corn and tapioca pudding. Call 817-837-7120 by Tuesday at noon to reserve your meal for this week. There is no charge\, but donations are accepted.
URL:https://kanepa.com/event/wednesday-drive-up-dinner-at-kane-community-methodist-church/
LOCATION:Methodist Church\, 112 Greeves St\, Kane\, PA\, 16735
END:VEVENT
BEGIN:VEVENT
DTSTART;TZID=UTC:20250122T180000
DTEND;TZID=UTC:20250122T190000
DTSTAMP:20260419T153609
CREATED:20250115T160511Z
LAST-MODIFIED:20250115T160511Z
UID:4841-1737568800-1737572400@kanepa.com
SUMMARY:Flick Fiction Book Club at Flickerwood Winery
DESCRIPTION:Book- The Great Alone; Cost is $10 and includes a drink of choice and shareable charcuterie board. All ages are welcome. Call 814-837-7566 to join us!
URL:https://kanepa.com/event/flick-fiction-book-club-at-flickerwood-winery/
LOCATION:Flickerwood Wine Cellars & Cocktail Lounge\, 309 Flickerwood Rd\, Kane\, PA\, 16735\, United States
END:VEVENT
BEGIN:VEVENT
DTSTART;TZID=UTC:20250124T060000
DTEND;TZID=UTC:20250126T140000
DTSTAMP:20260419T153609
CREATED:20250108T152802Z
LAST-MODIFIED:20250108T152802Z
UID:4807-1737698400-1737900000@kanepa.com
SUMMARY:2025 Ice Fishing on the Zoo
DESCRIPTION:Allegheny Reservoir- Kinzua; organized by Paul’s Trading Post
URL:https://kanepa.com/event/2025-ice-fishing-on-the-zoo/
CATEGORIES:Activity
END:VEVENT
BEGIN:VEVENT
DTSTART;TZID=UTC:20250125T190000
DTEND;TZID=UTC:20250125T220000
DTSTAMP:20260419T153609
CREATED:20250107T165046Z
LAST-MODIFIED:20250107T165046Z
UID:4796-1737831600-1737842400@kanepa.com
SUMMARY:Live Music\, JB Unplugged at CJ Spirits
DESCRIPTION:
URL:https://kanepa.com/event/live-music-jb-unplugged-at-cj-spirits-4/
LOCATION:CJ Spirits\, 120 Willow Run Drive\, Kane\, PA\, 16735\, United States
CATEGORIES:Music
END:VEVENT
BEGIN:VEVENT
DTSTART;TZID=UTC:20250127T090000
DTEND;TZID=UTC:20250127T100000
DTSTAMP:20260419T153609
CREATED:20250108T163613Z
LAST-MODIFIED:20250108T163613Z
UID:4824-1737968400-1737972000@kanepa.com
SUMMARY:Kane 2 Doughnut for Dad at Head Start
DESCRIPTION:Calling all dads\, stepdads\, papas\, uncles\, siblings and moms who do it all\, join your favorite HeadStart student for a yummy breakfast to celebrate just how special you are!
URL:https://kanepa.com/event/kane-2-doughnut-for-dad-at-head-start/
LOCATION:Chestnut Street Center\, 226 Chestnut Street\, Kane\, PA
END:VEVENT
BEGIN:VEVENT
DTSTART;TZID=UTC:20250128T090000
DTEND;TZID=UTC:20250128T100000
DTSTAMP:20260419T153609
CREATED:20250108T163732Z
LAST-MODIFIED:20250108T163732Z
UID:4826-1738054800-1738058400@kanepa.com
SUMMARY:Kane 1 Doughnuts for Dad at Head Start
DESCRIPTION:Calling all dads\, stepdads\, papas\, uncles\, siblings and moms who do it all\, join your favorite HeadStart student for a yummy breakfast to celebrate just how special you are!
URL:https://kanepa.com/event/kane-1-doughnuts-for-dad-at-head-start/
LOCATION:Chestnut Street Center\, 226 Chestnut Street\, Kane\, PA
END:VEVENT
BEGIN:VEVENT
DTSTART;TZID=UTC:20250129T170000
DTEND;TZID=UTC:20250129T180000
DTSTAMP:20260419T153609
CREATED:20250108T163844Z
LAST-MODIFIED:20250108T163844Z
UID:4827-1738170000-1738173600@kanepa.com
SUMMARY:Wednesday Drive-up Dinners at Kane Community Methodist Church
DESCRIPTION:This week is barbequed ham sandwich\, chips\, coleslaw\, and apple crisp. Call 814-837-7120 by noon Tuesday to reserve your meal this week. There is no charge but donations are accepted.
URL:https://kanepa.com/event/wednesday-drive-up-dinners-at-kane-community-methodist-church-2/
LOCATION:Methodist Church\, 112 Greeves St\, Kane\, PA\, 16735
CATEGORIES:Food
END:VEVENT
BEGIN:VEVENT
DTSTART;TZID=UTC:20250130T180000
DTEND;TZID=UTC:20250130T200000
DTSTAMP:20260419T153609
CREATED:20250129T154716Z
LAST-MODIFIED:20250129T154716Z
UID:4874-1738260000-1738267200@kanepa.com
SUMMARY:Poetry Out Loud Region 2 Competition
DESCRIPTION:The Elk County Council on the Arts would like to invite the public to this year’s regional Poetry Out Loud competition taking place January 30\, 2025 at 6:00 pm at the PA Wilds Media Lab in Kane. A partnership of the National Endowment for the Arts\, Poetry Foundation\, the Pennsylvania Council on the Arts\, and the Elk County Council on the Arts\, Poetry Out Loud is a national arts education program that encourages the study of great poetry by offering free educational materials and a dynamic recitation competition for high school students across the country. Students from Saint Marys Area High School and Ridgway High School will gather to compete and recite the poems they have selected for a panel of esteemed judges.\nWinners advance to a regional-wide competition\, then to the state competitions in March\, and then to the national finals in the spring.\nIf anyone has any further questions or if you’re a teacher hoping to get involved next year\, please contact the Elk County Council on the Arts at (814) 772-7051.
URL:https://kanepa.com/event/poetry-out-loud-region-2-competition/
LOCATION:PA Wilds Media Lab\, 61 N Fraley St\, Kane\, PA\, 16735
END:VEVENT
BEGIN:VEVENT
DTSTART;TZID=UTC:20250131T170000
DTEND;TZID=UTC:20250131T190000
DTSTAMP:20260419T153609
CREATED:20250115T160745Z
LAST-MODIFIED:20250115T160745Z
UID:4842-1738342800-1738350000@kanepa.com
SUMMARY:Pasta Night at Flickerwood Winery
DESCRIPTION:Serving Homemade Lasagna; Call 814-837-7566 for reservations. \n  \nReservations for 5pm and 7pm.
URL:https://kanepa.com/event/pasta-night-at-flickerwood-winery-3/
LOCATION:Flickerwood Wine Cellars & Cocktail Lounge\, 309 Flickerwood Rd\, Kane\, PA\, 16735\, United States
END:VEVENT
BEGIN:VEVENT
DTSTART;TZID=UTC:20250201T103000
DTEND;TZID=UTC:20250201T120000
DTSTAMP:20260419T153609
CREATED:20250108T162217Z
LAST-MODIFIED:20250108T162217Z
UID:4810-1738405800-1738411200@kanepa.com
SUMMARY:Take your Child to the Library Day\, Bingo for Books at Friends Memorial Library
DESCRIPTION:
URL:https://kanepa.com/event/take-your-child-to-the-library-day-bingo-for-books-at-friends-memorial-library/
LOCATION:Friends Memorial Public Library\, 230 Chase Street\, Kane\, PA\, 16735\, United States
CATEGORIES:Activity,Family Friendly
ATTACH;FMTTYPE=image/jpeg:https://kanepa.com/wp-content/uploads/2025/01/TYCL-Day-2025-Bingo.jpg
END:VEVENT
BEGIN:VEVENT
DTSTART;TZID=UTC:20250202T110000
DTEND;TZID=UTC:20250202T130000
DTSTAMP:20260419T153609
CREATED:20250115T170143Z
LAST-MODIFIED:20250115T170143Z
UID:4855-1738494000-1738501200@kanepa.com
SUMMARY:Create Your Date Workshop with Between the Pines Blooms and Botanicals
DESCRIPTION:
URL:https://kanepa.com/event/create-your-date-workshop-with-between-the-pines-blooms-and-botanicals/
LOCATION:Between the Pines- Blooms and Botanicals\, 6786 Route 6\, Kane\, PA\, 16735
ATTACH;FMTTYPE=image/jpeg:https://kanepa.com/wp-content/uploads/2025/01/473582965_618479597365161_8547189764917079577_n.jpg
END:VEVENT
BEGIN:VEVENT
DTSTART;TZID=UTC:20250205T170000
DTEND;TZID=UTC:20250205T190000
DTSTAMP:20260419T153609
CREATED:20250129T163046Z
LAST-MODIFIED:20250129T163046Z
UID:4883-1738774800-1738782000@kanepa.com
SUMMARY:Wednesday Drive-Up dinners at the Kane Community Methodist Church
DESCRIPTION:Scalloped Potatoes and Ham\, candied carrots\, roll and pineapple upside down cake \nCall 814-837-7120 by Tuesday at noon to reserve your meal this week.
URL:https://kanepa.com/event/wednesday-drive-up-dinners-at-the-kane-community-methodist-church/
LOCATION:Methodist Church\, 112 Greeves St\, Kane\, PA\, 16735
END:VEVENT
BEGIN:VEVENT
DTSTART;TZID=UTC:20250206T170000
DTEND;TZID=UTC:20250206T180000
DTSTAMP:20260419T153609
CREATED:20250108T162000Z
LAST-MODIFIED:20250108T162000Z
UID:4808-1738861200-1738864800@kanepa.com
SUMMARY:Beaded Bookmarks Adult Class at Friends Memorial Library
DESCRIPTION:
URL:https://kanepa.com/event/beaded-bookmarks-adult-class-at-friends-memorial-library/
LOCATION:Friends Memorial Public Library\, 230 Chase Street\, Kane\, PA\, 16735\, United States
CATEGORIES:Activity
ATTACH;FMTTYPE=image/jpeg:https://kanepa.com/wp-content/uploads/2025/01/Beaded-Bookmark-2025.jpg
END:VEVENT
BEGIN:VEVENT
DTSTART;TZID=UTC:20250208T190000
DTEND;TZID=UTC:20250208T210000
DTSTAMP:20260419T153609
CREATED:20250115T161313Z
LAST-MODIFIED:20250115T161313Z
UID:4843-1739041200-1739048400@kanepa.com
SUMMARY:Galentine's BINGO Night at Flickerwood Winery
DESCRIPTION:Co-Hosts Flickerwood Wine Cellars and Homemade Holidays; $20 per person to play most rounds. There are prizes every round. Call 814-837-7566 for reservations.
URL:https://kanepa.com/event/galentines-bingo-night-at-flickerwood-winery/
LOCATION:Flickerwood Wine Cellars & Cocktail Lounge\, 309 Flickerwood Rd\, Kane\, PA\, 16735\, United States
END:VEVENT
BEGIN:VEVENT
DTSTART;TZID=UTC:20250208T200000
DTEND;TZID=UTC:20250208T233000
DTSTAMP:20260419T153609
CREATED:20250129T160336Z
LAST-MODIFIED:20250129T160336Z
UID:4877-1739044800-1739057400@kanepa.com
SUMMARY:Live Music\, THE RIDE at the Kane VFW
DESCRIPTION:
URL:https://kanepa.com/event/live-music-the-ride-at-the-kane-vfw/
LOCATION:Kane VFW\, 95 Wetmore Ave\, Kane\, PA\, 16735
END:VEVENT
BEGIN:VEVENT
DTSTART;TZID=UTC:20250209T130000
DTEND;TZID=UTC:20250209T150000
DTSTAMP:20260419T153609
CREATED:20250121T162812Z
LAST-MODIFIED:20250121T162812Z
UID:4863-1739106000-1739113200@kanepa.com
SUMMARY:Bingo with a Beat at Wilds Sonshine Factory
DESCRIPTION:
URL:https://kanepa.com/event/bingo-with-a-beat-at-wilds-sonshine-factory-2/
LOCATION:Wilds Sonshine Factory\, 3480 Route 6 West\, Kane\, PA\, 16735\, United States
CATEGORIES:Games,Music
END:VEVENT
BEGIN:VEVENT
DTSTART;TZID=UTC:20250212T170000
DTEND;TZID=UTC:20250212T190000
DTSTAMP:20260419T153609
CREATED:20250129T163259Z
LAST-MODIFIED:20250129T163259Z
UID:4884-1739379600-1739386800@kanepa.com
SUMMARY:Wednesday Drive-up Dinners at the Kane Community Methodist Church
DESCRIPTION:Sloppy Joes\, chips\, applesauce\, and valentines cookie! \nCall 814-837-7120 by Tuesday at noon to reserve your meal for this week.
URL:https://kanepa.com/event/wednesday-drive-up-dinners-at-the-kane-community-methodist-church-2/
LOCATION:Methodist Church\, 112 Greeves St\, Kane\, PA\, 16735
END:VEVENT
END:VCALENDAR