BEGIN:VCALENDAR
VERSION:2.0
PRODID:-// - ECPv6.11.2.1//NONSGML v1.0//EN
CALSCALE:GREGORIAN
METHOD:PUBLISH
X-ORIGINAL-URL:https://kanepa.com
X-WR-CALDESC:Events for 
REFRESH-INTERVAL;VALUE=DURATION:PT1H
X-Robots-Tag:noindex
X-PUBLISHED-TTL:PT1H
BEGIN:VTIMEZONE
TZID:UTC
BEGIN:STANDARD
TZOFFSETFROM:+0000
TZOFFSETTO:+0000
TZNAME:UTC
DTSTART:20240101T000000
END:STANDARD
END:VTIMEZONE
BEGIN:VEVENT
DTSTART;TZID=UTC:20240922T160000
DTEND;TZID=UTC:20240922T190000
DTSTAMP:20260420T123507
CREATED:20240918T193205Z
LAST-MODIFIED:20240919T194732Z
UID:4521-1727020800-1727031600@kanepa.com
SUMMARY:Live music: Jared Hill at Table 105
DESCRIPTION:Enjoy live music by Jared Hill while dining on the patio at Table 105. \n 
URL:https://kanepa.com/event/live-music-jared-hill/
LOCATION:Table 105\, 105 N Fraley St\, Kane\, PA
CATEGORIES:Music
END:VEVENT
BEGIN:VEVENT
DTSTART;TZID=UTC:20240923T180000
DTEND;TZID=UTC:20240923T200000
DTSTAMP:20260420T123507
CREATED:20240918T171414Z
LAST-MODIFIED:20240918T171414Z
UID:4516-1727114400-1727121600@kanepa.com
SUMMARY:Kane Area High School Open House
DESCRIPTION:
URL:https://kanepa.com/event/kane-area-high-school-open-house/
LOCATION:Kane Area High School\, 6965 PA-321\, Kane\, PA
CATEGORIES:Open House
END:VEVENT
BEGIN:VEVENT
DTSTART;TZID=UTC:20240924T120000
DTEND;TZID=UTC:20240924T170000
DTSTAMP:20260420T123507
CREATED:20240917T163352Z
LAST-MODIFIED:20240917T163352Z
UID:4498-1727179200-1727197200@kanepa.com
SUMMARY:Blood Drive
DESCRIPTION:
URL:https://kanepa.com/event/blood-drive/
LOCATION:Kane Area Community Center\, 46 N. Fraley Street\, Kane\, PA\, 16735\, United States
END:VEVENT
BEGIN:VEVENT
DTSTART;TZID=UTC:20240924T180000
DTEND;TZID=UTC:20240924T190000
DTSTAMP:20260420T123507
CREATED:20240918T174451Z
LAST-MODIFIED:20240918T174451Z
UID:4517-1727200800-1727204400@kanepa.com
SUMMARY:Kane Area Middle School Open House
DESCRIPTION:
URL:https://kanepa.com/event/kane-area-middle-school-open-house/
LOCATION:Kane Area Middle School
CATEGORIES:Educational,Family Friendly
END:VEVENT
BEGIN:VEVENT
DTSTART;TZID=UTC:20240925T180000
DTEND;TZID=UTC:20240925T193000
DTSTAMP:20260420T123507
CREATED:20240918T174538Z
LAST-MODIFIED:20240918T174538Z
UID:4519-1727287200-1727292600@kanepa.com
SUMMARY:Kane Area Elementary School Open House
DESCRIPTION:
URL:https://kanepa.com/event/kane-area-elementary-school-open-house/
LOCATION:Kane Area Middle School
CATEGORIES:Educational,Family Friendly
END:VEVENT
BEGIN:VEVENT
DTSTART;TZID=UTC:20240928T090000
DTEND;TZID=UTC:20240928T130000
DTSTAMP:20260420T123507
CREATED:20240925T160200Z
LAST-MODIFIED:20240925T160200Z
UID:4555-1727514000-1727528400@kanepa.com
SUMMARY:Kane Farmers Market at 300 N. Fraley St
DESCRIPTION:
URL:https://kanepa.com/event/kane-farmers-market-at-300-n-fraley-st/
LOCATION:300 N. Fraley Street\, 300 N. Fraley Street
CATEGORIES:Community,Food,Shopping
END:VEVENT
BEGIN:VEVENT
DTSTART;TZID=UTC:20240928T090000
DTEND;TZID=UTC:20240928T130000
DTSTAMP:20260420T123507
CREATED:20240925T175726Z
LAST-MODIFIED:20240925T175726Z
UID:4557-1727514000-1727528400@kanepa.com
SUMMARY:Kane Community Farmers Market at Chickie & Co.
DESCRIPTION:
URL:https://kanepa.com/event/kane-community-farmers-market-at-chickie-co/
LOCATION:76 Fraley St\, Kane\, 16735
CATEGORIES:Community,Food
END:VEVENT
BEGIN:VEVENT
DTSTART;TZID=UTC:20240928T110000
DTEND;TZID=UTC:20240928T110000
DTSTAMP:20260420T123507
CREATED:20240911T162101Z
LAST-MODIFIED:20240911T162136Z
UID:4477-1727521200-1727521200@kanepa.com
SUMMARY:Jamie Petrush Performance
DESCRIPTION:
URL:https://kanepa.com/event/jamie-petrush-performance/
LOCATION:Friends Memorial Public Library\, 230 Chase Street\, Kane\, PA\, 16735\, United States
CATEGORIES:Activity,Community
ATTACH;FMTTYPE=image/jpeg:https://kanepa.com/wp-content/uploads/2024/09/0812_002-scaled.jpg
END:VEVENT
BEGIN:VEVENT
DTSTART;TZID=UTC:20240928T163000
DTEND;TZID=UTC:20240928T173000
DTSTAMP:20260420T123507
CREATED:20240925T154037Z
LAST-MODIFIED:20240925T154037Z
UID:4553-1727541000-1727544600@kanepa.com
SUMMARY:Pop-Up Fall Photos at The Coop Shop
DESCRIPTION:
URL:https://kanepa.com/event/pop-up-fall-photos-at-the-coop-shop/
LOCATION:PA
CATEGORIES:Activity,Community,Family Friendly
ATTACH;FMTTYPE=image/png:https://kanepa.com/wp-content/uploads/2024/09/Orange-Pink-Playful-Bold-Pop-up-Market-Event-Poster-1.png
END:VEVENT
BEGIN:VEVENT
DTSTART;TZID=UTC:20240928T170000
DTEND;TZID=UTC:20240928T170000
DTSTAMP:20260420T123507
CREATED:20240911T162418Z
LAST-MODIFIED:20240911T162418Z
UID:4479-1727542800-1727542800@kanepa.com
SUMMARY:Library Illusions A Night of Magic Wine and Bites show
DESCRIPTION:This showing is for adults and seating will be limited. Reservations are required. You can stoop by the library or call 814-837-7010 to reserve your seats.
URL:https://kanepa.com/event/library-illusions-a-night-of-magic-wine-and-bites-show/
LOCATION:Friends Memorial Public Library\, 230 Chase Street\, Kane\, PA\, 16735\, United States
ATTACH;FMTTYPE=image/jpeg:https://kanepa.com/wp-content/uploads/2024/09/0812_001-scaled.jpg
END:VEVENT
BEGIN:VEVENT
DTSTART;TZID=UTC:20240928T193000
DTEND;TZID=UTC:20240928T223000
DTSTAMP:20260420T123507
CREATED:20240911T162516Z
LAST-MODIFIED:20240911T162516Z
UID:4481-1727551800-1727562600@kanepa.com
SUMMARY:Live Music\, JB Unplugged
DESCRIPTION:
URL:https://kanepa.com/event/live-music-jb-unplugged/
LOCATION:CJ Spirits\, 120 Willow Run Drive\, Kane\, PA\, 16735\, United States
END:VEVENT
BEGIN:VEVENT
DTSTART;TZID=UTC:20241003T070000
DTEND;TZID=UTC:20241006T190000
DTSTAMP:20260420T123507
CREATED:20240925T153555Z
LAST-MODIFIED:20240925T153555Z
UID:4548-1727938800-1728241200@kanepa.com
SUMMARY:Pumpkins on the Pasture at Allegheny Nesting
DESCRIPTION:Stop at the Coop Shop and visit with the alpacas\, shop all the fall decor and pumpkins. Honor system\, 7am- 7pm. Cash\, Venmo and Paypal accepted.
URL:https://kanepa.com/event/pumpkins-on-the-pasture-at-allegheny-nesting/
LOCATION:The Coop Shop at Allegheny Nesting\, 5560 Highland Rd\, Kane\, PA\, 16735\, United States
CATEGORIES:Activity,Community,Family Friendly
ATTACH;FMTTYPE=image/png:https://kanepa.com/wp-content/uploads/2024/09/Orange-Green-Simple-Photo-Grid-Pumpkin-Patch-Farm-Event-Flyer-1.png
END:VEVENT
BEGIN:VEVENT
DTSTART;TZID=UTC:20241005T090000
DTEND;TZID=UTC:20241005T130000
DTSTAMP:20260420T123507
CREATED:20240925T175830Z
LAST-MODIFIED:20240925T175830Z
UID:4559-1728118800-1728133200@kanepa.com
SUMMARY:Kane Community Farmers Market at Chickie & Co.
DESCRIPTION:
URL:https://kanepa.com/event/kane-community-farmers-market-at-chickie-co-2/
LOCATION:76 Fraley St\, Kane\, 16735
CATEGORIES:Activity,Community,Food
END:VEVENT
BEGIN:VEVENT
DTSTART;TZID=UTC:20241005T100000
DTEND;TZID=UTC:20241005T130000
DTSTAMP:20260420T123507
CREATED:20240911T162901Z
LAST-MODIFIED:20240911T162901Z
UID:4482-1728122400-1728133200@kanepa.com
SUMMARY:Harvest Gathering by Between the Pines- Blooms and Botanicals
DESCRIPTION:
URL:https://kanepa.com/event/harvest-gathering-by-between-the-pines-blooms-and-botanicals/
LOCATION:Between the Pines- Blooms and Botanicals\, 6786 Route 6\, Kane\, PA\, 16735
CATEGORIES:Activity,Family Friendly
ATTACH;FMTTYPE=image/jpeg:https://kanepa.com/wp-content/uploads/2024/09/457432518_522752603604528_2504628298632822755_n.jpg
END:VEVENT
BEGIN:VEVENT
DTSTART;TZID=UTC:20241005T100000
DTEND;TZID=UTC:20241005T140000
DTSTAMP:20260420T123507
CREATED:20241001T164319Z
LAST-MODIFIED:20241001T164319Z
UID:4562-1728122400-1728136800@kanepa.com
SUMMARY:Mini Pumpkin Painting at Friends Memorial Library
DESCRIPTION:
URL:https://kanepa.com/event/mini-pumpkin-painting-at-friends-memorial-library/
LOCATION:Friends Memorial Public Library\, 230 Chase Street\, Kane\, PA\, 16735\, United States
CATEGORIES:Activity
ATTACH;FMTTYPE=image/jpeg:https://kanepa.com/wp-content/uploads/2024/10/mini-pumpkin-painting.jpg
END:VEVENT
BEGIN:VEVENT
DTSTART;TZID=UTC:20241005T130000
DTEND;TZID=UTC:20241005T200000
DTSTAMP:20260420T123507
CREATED:20240918T152336Z
LAST-MODIFIED:20240918T152336Z
UID:4505-1728133200-1728158400@kanepa.com
SUMMARY:Anytime Lunch Food Truck at Wilds Sonshine Factory
DESCRIPTION:
URL:https://kanepa.com/event/anytime-lunch-food-truck-at-wilds-sonshine-factory/
LOCATION:Wilds Sonshine Factory\, 3480 Route 6 West\, Kane\, PA\, 16735\, United States
CATEGORIES:Food
END:VEVENT
BEGIN:VEVENT
DTSTART;TZID=UTC:20241006T120000
DTEND;TZID=UTC:20241006T160000
DTSTAMP:20260420T123507
CREATED:20240918T152621Z
LAST-MODIFIED:20240918T152621Z
UID:4506-1728216000-1728230400@kanepa.com
SUMMARY:Full House Eatery Food Truck at Wilds Sonshine Factory
DESCRIPTION:
URL:https://kanepa.com/event/full-house-eatery-food-truck-at-wilds-sonshine-factory/
LOCATION:Wilds Sonshine Factory\, 3480 Route 6 West\, Kane\, PA\, 16735\, United States
CATEGORIES:Family Friendly,Food
END:VEVENT
BEGIN:VEVENT
DTSTART;TZID=UTC:20241008T160000
DTEND;TZID=UTC:20241008T170000
DTSTAMP:20260420T123507
CREATED:20241002T144735Z
LAST-MODIFIED:20241002T144735Z
UID:4583-1728403200-1728406800@kanepa.com
SUMMARY:Silhouettes Studio Ribbon Cutting
DESCRIPTION:
URL:https://kanepa.com/event/silhouettes-studio-ribbon-cutting/
LOCATION:Silhouettes Studio\, 68 Fraley St\, Kane\, PA\, 16735\, United States
CATEGORIES:Community,Open House
END:VEVENT
BEGIN:VEVENT
DTSTART;TZID=UTC:20241009T160000
DTEND;TZID=UTC:20241009T170000
DTSTAMP:20260420T123507
CREATED:20241002T144917Z
LAST-MODIFIED:20241002T144917Z
UID:4585-1728489600-1728493200@kanepa.com
SUMMARY:Avenali's Alignment and Service Center Ribbon Cutting
DESCRIPTION:
URL:https://kanepa.com/event/avenalis-alignment-and-service-center-ribbon-cutting/
LOCATION:48 Commons Alley\, Kane\, PA\, 16735
CATEGORIES:Community,Open House
END:VEVENT
BEGIN:VEVENT
DTSTART;TZID=UTC:20241009T180000
DTEND;TZID=UTC:20241009T190000
DTSTAMP:20260420T123507
CREATED:20240925T140712Z
LAST-MODIFIED:20240925T140712Z
UID:4540-1728496800-1728500400@kanepa.com
SUMMARY:SPECIAL Borough Council Meeting; Mayor Brandy Schimp receives the PA Mayor Association Mayor of the Year Award
DESCRIPTION:
URL:https://kanepa.com/event/special-borough-council-meeting-mayor-brandy-schimp-receives-the-pa-mayor-association-mayor-of-the-year-award/
LOCATION:Six and Kane\, 63 North Fraley St\, Kane\, PA\, 16735\, United States
CATEGORIES:Community
END:VEVENT
BEGIN:VEVENT
DTSTART;TZID=UTC:20241010T170000
DTEND;TZID=UTC:20241010T190000
DTSTAMP:20260420T123507
CREATED:20241001T164543Z
LAST-MODIFIED:20241001T164543Z
UID:4564-1728579600-1728586800@kanepa.com
SUMMARY:KAES PTO Pumpkin Carving
DESCRIPTION:
URL:https://kanepa.com/event/kaes-pto-pumpkin-carving/
LOCATION:Evergreen Park\, Birch Street\, Kane\, 16735\, United States
CATEGORIES:Activity
ATTACH;FMTTYPE=image/jpeg:https://kanepa.com/wp-content/uploads/2024/10/kaes-pto-pumpkin-carving.jpg
END:VEVENT
BEGIN:VEVENT
DTSTART;TZID=UTC:20241010T173000
DTEND;TZID=UTC:20241010T183000
DTSTAMP:20260420T123507
CREATED:20240924T161335Z
LAST-MODIFIED:20240924T161335Z
UID:4537-1728581400-1728585000@kanepa.com
SUMMARY:Christ's Crew Fall Family Fun Group Event
DESCRIPTION:This is free and open to everyone. Come enjoy a time of fall crafts\, a story by Pastor Micah\, music and a snack. This is designed to be for the whole family\, not a drop off event.
URL:https://kanepa.com/event/christs-crew-fall-family-fun-group-event/
LOCATION:Methodist Church\, 112 Greeves St\, Kane\, PA\, 16735
CATEGORIES:Activity,Community,Family Friendly
ATTACH;FMTTYPE=image/jpeg:https://kanepa.com/wp-content/uploads/2024/09/file-39-scaled.jpeg
END:VEVENT
BEGIN:VEVENT
DTSTART;TZID=UTC:20241011T170000
DTEND;TZID=UTC:20241012T210000
DTSTAMP:20260420T123507
CREATED:20240911T163138Z
LAST-MODIFIED:20240911T163138Z
UID:4485-1728666000-1728766800@kanepa.com
SUMMARY:Annual Pumpkin Walk by The Kane Garden Club
DESCRIPTION:Come enjoy a night of painted and carved pumpkins\, scarecrows\, food\, s’mores\, apple cider and more!
URL:https://kanepa.com/event/annual-pumpkin-walk-by-the-kane-garden-club/
LOCATION:Evergreen Park\, Birch Street\, Kane\, 16735\, United States
CATEGORIES:Community,Family Friendly,Food
END:VEVENT
BEGIN:VEVENT
DTSTART;TZID=UTC:20241011T180000
DTEND;TZID=UTC:20241011T200000
DTSTAMP:20260420T123507
CREATED:20241009T161130Z
LAST-MODIFIED:20241009T161130Z
UID:4611-1728669600-1728676800@kanepa.com
SUMMARY:Family Fun Night at KACC
DESCRIPTION:
URL:https://kanepa.com/event/family-fun-night-at-kacc-3/
LOCATION:Kane Area Community Center\, 46 N. Fraley Street\, Kane\, PA\, 16735\, United States
CATEGORIES:Activity,Family Friendly
END:VEVENT
BEGIN:VEVENT
DTSTART;TZID=UTC:20241012T080000
DTEND;TZID=UTC:20241012T170000
DTSTAMP:20260420T123507
CREATED:20240911T163637Z
LAST-MODIFIED:20240911T163637Z
UID:4486-1728720000-1728752400@kanepa.com
SUMMARY:2024 Jeep and Chance Run and Chicken BBQ
DESCRIPTION:Grab your Jeep\, Bronco\, Truck\, etc.\, and ride with us through the Allegheny National Forest. The cost is $30 per rider and includes the chicken BBQ. T-shirts are available for purchase for $15 prior to event.
URL:https://kanepa.com/event/2024-jeep-and-chance-run-and-chicken-bbq/
LOCATION:Flickerwood Wine Cellars & Cocktail Lounge\, 309 Flickerwood Rd\, Kane\, PA\, 16735\, United States
END:VEVENT
BEGIN:VEVENT
DTSTART;TZID=UTC:20241012T100000
DTEND;TZID=UTC:20241012T100000
DTSTAMP:20260420T123507
CREATED:20240911T163926Z
LAST-MODIFIED:20240911T164032Z
UID:4487-1728727200-1728727200@kanepa.com
SUMMARY:1st Annual Biketober Fest 2024
DESCRIPTION:
URL:https://kanepa.com/event/1st-annual-biketober-fest-2024/
LOCATION:Kane Family Drive In\, 6627 US-6\, Kane\, PA\, 16735\, United States
CATEGORIES:Family Friendly,Food,Fund Raiser,Games
ATTACH;FMTTYPE=image/jpeg:https://kanepa.com/wp-content/uploads/2024/09/thumb65ddf9f92ec82.jpg
END:VEVENT
BEGIN:VEVENT
DTSTART;TZID=UTC:20241012T180000
DTEND;TZID=UTC:20241012T210000
DTSTAMP:20260420T123507
CREATED:20240918T152843Z
LAST-MODIFIED:20240918T152843Z
UID:4507-1728756000-1728766800@kanepa.com
SUMMARY:Live Music\, Trevor Wilkins at Wilds Sonshine Factory
DESCRIPTION:
URL:https://kanepa.com/event/live-music-trevor-wilkins-at-wilds-sonshine-factory/
LOCATION:Wilds Sonshine Factory\, 3480 Route 6 West\, Kane\, PA\, 16735\, United States
CATEGORIES:Music
END:VEVENT
BEGIN:VEVENT
DTSTART;TZID=UTC:20241014T160000
DTEND;TZID=UTC:20241014T180000
DTSTAMP:20260420T123507
CREATED:20241009T160732Z
LAST-MODIFIED:20241009T160732Z
UID:4608-1728921600-1728928800@kanepa.com
SUMMARY:Chicken and Biscuit Dinner at Wildcat Park
DESCRIPTION:$15 a person starting at 4pm. Dinners include mashed potatoes\, stuffing\, green beans and a selection of homemade desserts.
URL:https://kanepa.com/event/chicken-and-biscuit-dinner-at-wildcat-park/
LOCATION:Wildcat Park\, 896 Olmsted Road\, Ludlow\, PA\, United States
CATEGORIES:Food
END:VEVENT
BEGIN:VEVENT
DTSTART;TZID=UTC:20241016T170000
DTEND;TZID=UTC:20241016T190000
DTSTAMP:20260420T123507
CREATED:20241008T193818Z
LAST-MODIFIED:20241008T193818Z
UID:4592-1729098000-1729105200@kanepa.com
SUMMARY:Happy Hour & Headshots
DESCRIPTION:If you live in McKean or surrounding areas and are between 21-40 years old\, come out to this event!\n\nHave you heard of the service and networking organization called the Jaycees?\n\nIn short\, the Jaycees\, are a national organization that has been around for about 100 years. It is for people under 40 and a group wants to get a chapter started in Kane!\n\nWhether you work in any kind of business\, work from home\, are in between jobs\, or any other situation\, come out to connect with others around your age.\n\nAnd update your headshot on us!\n\nThe Kane Chamber is exited to sponsor this kick-off event and will support this group as it grows!
URL:https://kanepa.com/event/happy-hour-headshots/
LOCATION:Twisted Vine Winery\, 117 N Fraley St\, Kane\, PA\, 16735
ATTACH;FMTTYPE=image/jpeg:https://kanepa.com/wp-content/uploads/2024/10/Jaycees.jpg
ORGANIZER;CN="Kane Chamber of Commerce":MAILTO:info@kanepa.com
END:VEVENT
BEGIN:VEVENT
DTSTART;TZID=UTC:20241016T190000
DTEND;TZID=UTC:20241016T200000
DTSTAMP:20260420T123507
CREATED:20241009T143711Z
LAST-MODIFIED:20241009T144204Z
UID:4605-1729105200-1729108800@kanepa.com
SUMMARY:TAMED Trails Meeting
DESCRIPTION:Meeting is open to the public. Third Wednesday of the month at 7pm.
URL:https://kanepa.com/event/trails-meeting/
LOCATION:Logyard Brewing Taproom\, 103 N Fraley Street\, Kane\, PA\, 16735\, United States
END:VEVENT
END:VCALENDAR