BEGIN:VCALENDAR
VERSION:2.0
PRODID:-// - ECPv6.11.2.1//NONSGML v1.0//EN
CALSCALE:GREGORIAN
METHOD:PUBLISH
X-ORIGINAL-URL:https://kanepa.com
X-WR-CALDESC:Events for 
REFRESH-INTERVAL;VALUE=DURATION:PT1H
X-Robots-Tag:noindex
X-PUBLISHED-TTL:PT1H
BEGIN:VTIMEZONE
TZID:UTC
BEGIN:STANDARD
TZOFFSETFROM:+0000
TZOFFSETTO:+0000
TZNAME:UTC
DTSTART:20250101T000000
END:STANDARD
END:VTIMEZONE
BEGIN:VEVENT
DTSTART;TZID=UTC:20250816T130000
DTEND;TZID=UTC:20250816T170000
DTSTAMP:20260425T122112
CREATED:20250611T144302Z
LAST-MODIFIED:20250611T144407Z
UID:4975-1755349200-1755363600@kanepa.com
SUMMARY:The Lutheran Home at Kane's Alzheimer's Walk or 5K Run
DESCRIPTION:“A Walk Down Memory Lane” \nSilent Auctions\, Free health screenings\, and Memorial/ In Honor of Banners for Sale \nDate:  Saturday\, August 16\, 2025 \nCost: $25 \nWalk Location: The Lutheran Home at Kane \nWalk:  2 miles     Run: 5K \nTime: 1:00 p.m. \nSign in/On Site Registration Starts: 12:00 p.m.
URL:https://kanepa.com/event/the-lutheran-home-at-kanes-alzheimers-walk-or-5k-run/
LOCATION:Lutheran Home at Kane\, 100 High Point Dr\, Kane\, PA\, 16735\, United States
ATTACH;FMTTYPE=application/pdf:https://kanepa.com/wp-content/uploads/2025/06/Poster.pdf
END:VEVENT
BEGIN:VEVENT
DTSTART;TZID=UTC:20250817T130000
DTEND;TZID=UTC:20250817T160000
DTSTAMP:20260425T122112
CREATED:20250527T193638Z
LAST-MODIFIED:20250527T193638Z
UID:4973-1755435600-1755446400@kanepa.com
SUMMARY:LIVE MUSIC- XIII (Rock)
DESCRIPTION:Rock out with Kane’s own XIII!\n\nSunday\, August 17| 1–4pm | O.G. Crawford Amphitheater\n Free & open to all Rain location: Thomas L. Kane Memorial Chapel\n\nCheck the calendar for the summer line up for free\, live music every Sunday from 1-4 p.m. June\, July\, and most of August!\n\nWe’ll see you there for a great Sunday afternoon of live music in beautiful Kane \n\nSummer concert series made possible thanks to PA Council on the Arts\, Trail Central | Allegheny National Forest Visitors Bureau\, Kane Rotary\, Kane Area Revitalization Enterprise\, and the Kane Chamber of Commerce.
URL:https://kanepa.com/event/live-music-xiii-rock/
LOCATION:OG Crawford Ampitheatre\, Fraley Street\, Kane\, PA\, United States
CATEGORIES:Music
ORGANIZER;CN="Kane Chamber of Commerce":MAILTO:info@kanepa.com
END:VEVENT
BEGIN:VEVENT
DTSTART;TZID=UTC:20250820T080000
DTEND;TZID=UTC:20250820T170000
DTSTAMP:20260425T122112
CREATED:20250820T152600Z
LAST-MODIFIED:20250820T152600Z
UID:5102-1755676800-1755709200@kanepa.com
SUMMARY:First Day of School for the Kane Area School District
DESCRIPTION:
URL:https://kanepa.com/event/first-day-of-school-for-the-kane-area-school-district/
LOCATION:Kane Area High School\, 6965 PA-321\, Kane\, PA
END:VEVENT
BEGIN:VEVENT
DTSTART;TZID=UTC:20250822T160000
DTEND;TZID=UTC:20250824T200000
DTSTAMP:20260425T122112
CREATED:20250107T172116Z
LAST-MODIFIED:20250107T172116Z
UID:4803-1755878400-1756065600@kanepa.com
SUMMARY:2nd Annual Sunflower Festival at Wilds Sonshine Factory
DESCRIPTION:
URL:https://kanepa.com/event/2nd-annual-sunflower-festival-at-wilds-sonshine-factory/
LOCATION:Wilds Sonshine Factory\, 3480 Route 6 West\, Kane\, PA\, 16735\, United States
ATTACH;FMTTYPE=image/jpeg:https://kanepa.com/wp-content/uploads/2025/01/471190368_1388966889107546_6173321137854852193_n.jpg
END:VEVENT
BEGIN:VEVENT
DTSTART;TZID=UTC:20250823T090000
DTEND;TZID=UTC:20250823T103000
DTSTAMP:20260425T122112
CREATED:20250801T163812Z
LAST-MODIFIED:20250801T163812Z
UID:5086-1755939600-1755945000@kanepa.com
SUMMARY:Volunteer in Kane\, PA! Information Session
DESCRIPTION:We have a lot of really great volunteer organizations right here in the Kane area and many of them are looking for people to help out. Come to this information session and learn how to get involved with one (or more!) of these places: \nArt in the Wilds \nBoy Scouts & Cub Scouts \nCamp JJ \nCASA of McKean County (Court Appointed Special Advocates) \nFriends’ Memorial Public Library \nGirl Scouts of Western PA \nHighland Township Volunteer Fire Department \nKane Borough Council and Committees \nKane Area Chamber of Commerce \nKane Area Children’s Museum \nKane Area Community Center \nKane Area Elementary School PTO (Parent Teacher Organization) \nKane Area Food Pantry \nKane Area Little League \nKane Area Revitalization Enterprise (KARE) \nKane Area Soccer Association \nKane Community Hospital Association \nKane Historic Preservation Society \nKane Senior Center \nKane Tornadoes Youth Football & Cheerleading \nKane Volunteer Fire Department \nLutheran Home at Kane \nTrail Association of the McKean Elk Divide (TAMED) \nTrail Central | Allegheny National Forest Visitors Bureau \nYou will leave with all of the information you need to get plugged in to help as much or as little as you can. Every person makes a HUGE difference! \nLearn more or sign up here: \nhttps://www.eventbrite.com/e/volunteer-in-kane-pa-tickets-1552774463219?aff=oddtdtcreato
URL:https://kanepa.com/event/volunteer-in-kane-pa-information-session/
LOCATION:Six and Kane\, 63 North Fraley St\, Kane\, PA\, 16735\, United States
ATTACH;FMTTYPE=image/jpeg:https://kanepa.com/wp-content/uploads/2025/08/Volunteer-info-session-on-8-23-25-scaled.jpg
END:VEVENT
BEGIN:VEVENT
DTSTART;TZID=UTC:20250823T103000
DTEND;TZID=UTC:20250823T113000
DTSTAMP:20260425T122112
CREATED:20250820T153256Z
LAST-MODIFIED:20250820T153256Z
UID:5105-1755945000-1755948600@kanepa.com
SUMMARY:Snake Discovery at Friends Memorial Library
DESCRIPTION:
URL:https://kanepa.com/event/snake-discovery-at-friends-memorial-library/
LOCATION:Friends Memorial Public Library\, 230 Chase Street\, Kane\, PA\, 16735\, United States
END:VEVENT
BEGIN:VEVENT
DTSTART;TZID=UTC:20250823T190000
DTEND;TZID=UTC:20250823T230000
DTSTAMP:20260425T122112
CREATED:20250820T153012Z
LAST-MODIFIED:20250820T153012Z
UID:5103-1755975600-1755990000@kanepa.com
SUMMARY:Live Music\, Vinny & The Mudflaps at Twin Lakes Recreation Area
DESCRIPTION:
URL:https://kanepa.com/event/live-music-vinny-the-mudflaps-at-twin-lakes-recreation-area/
LOCATION:Twin Lakes Recreation Area
END:VEVENT
BEGIN:VEVENT
DTSTART;TZID=UTC:20250824T130000
DTEND;TZID=UTC:20250824T160000
DTSTAMP:20260425T122112
CREATED:20250527T193907Z
LAST-MODIFIED:20250527T193907Z
UID:4974-1756040400-1756051200@kanepa.com
SUMMARY:LIVE MUSIC- BOOM Rockets (Rockabilly Trio\, Originals\, Covers\, Surf\, Etc.)
DESCRIPTION:Get out for the last band of the summer concert series and enjoy this lively band!\n\nSunday\, August 24 | 1–4pm | O.G. Crawford Amphitheater\n Free & open to all Rain location: Thomas L. Kane Memorial Chapel\n\nCheck the calendar for the summer line up for free\, live music every Sunday from 1-4 p.m. June\, July\, and most of August!\n\nWe’ll see you there for a great Sunday afternoon of live music in beautiful Kane \n\nSummer concert series made possible thanks to PA Council on the Arts\, Trail Central | Allegheny National Forest Visitors Bureau\, Kane Rotary\, Kane Area Revitalization Enterprise\, and the Kane Chamber of Commerce.
URL:https://kanepa.com/event/live-music-boom-rockets-rockabilly-trio-originals-covers-surf-etc/
LOCATION:OG Crawford Ampitheatre\, Fraley Street\, Kane\, PA\, United States
CATEGORIES:Music
ORGANIZER;CN="Kane Chamber of Commerce":MAILTO:info@kanepa.com
END:VEVENT
BEGIN:VEVENT
DTSTART;TZID=UTC:20250829T170000
DTEND;TZID=UTC:20250829T190000
DTSTAMP:20260425T122112
CREATED:20250827T142404Z
LAST-MODIFIED:20250827T142404Z
UID:5121-1756486800-1756494000@kanepa.com
SUMMARY:Phil's World Famous Chicken BBQ at the Kane Depot
DESCRIPTION:This years proceeds will help support the restoration of the bell and tower at the Kane Memorial Chapel. Live music by The Guitar Band!
URL:https://kanepa.com/event/phils-world-famous-chicken-bbq-at-the-kane-depot/
LOCATION:Kane Depot\, 1 Fraley Street\, Kane\, PA\, 16735\, United States
END:VEVENT
BEGIN:VEVENT
DTSTART;TZID=UTC:20250830T080000
DTEND;TZID=UTC:20250901T170000
DTSTAMP:20260425T122112
CREATED:20250813T141521Z
LAST-MODIFIED:20250813T143337Z
UID:5095-1756540800-1756746000@kanepa.com
SUMMARY:Kinzua Rocks The Wake at Kinzua Beach
DESCRIPTION:Labor Day weekend fun at Kinzua Beach!
URL:https://kanepa.com/event/kinzua-rocks-the-wake-at-kinzua-beach/
LOCATION:Kinzua Beach
CATEGORIES:Activity,Community,Family Friendly,Food,Music
ATTACH;FMTTYPE=image/jpeg:https://kanepa.com/wp-content/uploads/2025/08/KRW-Announcement-Facebook-070125.jpg
END:VEVENT
BEGIN:VEVENT
DTSTART;TZID=UTC:20250904T180000
DTEND;TZID=UTC:20250904T190000
DTSTAMP:20260425T122112
CREATED:20250827T141116Z
LAST-MODIFIED:20250827T141116Z
UID:5116-1757008800-1757012400@kanepa.com
SUMMARY:UPMC Kane Annual Report and Public Meeting at CJ Spirits
DESCRIPTION:Doors open at 5pm.
URL:https://kanepa.com/event/upmc-kane-annual-report-and-public-meeting-at-cj-spirits/
LOCATION:CJ Spirits\, 120 Willow Run Drive\, Kane\, PA\, 16735\, United States
ATTACH;FMTTYPE=image/jpeg:https://kanepa.com/wp-content/uploads/2025/08/Annual-meeting-flyer-2025.jpg
END:VEVENT
BEGIN:VEVENT
DTSTART;TZID=UTC:20250915T180000
DTEND;TZID=UTC:20250915T190000
DTSTAMP:20260425T122112
CREATED:20250910T144942Z
LAST-MODIFIED:20250910T144942Z
UID:5132-1757959200-1757962800@kanepa.com
SUMMARY:Yoga at the Kane Community Center
DESCRIPTION:Mondays\, from 6-7pm..Yoga by Karen Haberberger \nFree! Bring a friend and a mat!
URL:https://kanepa.com/event/yoga-at-the-kane-community-center/
LOCATION:Kane Area Community Center\, 46 N. Fraley Street\, Kane\, PA\, 16735\, United States
ATTACH;FMTTYPE=image/jpeg:https://kanepa.com/wp-content/uploads/2025/09/thumbnail_file.jpg
END:VEVENT
BEGIN:VEVENT
DTSTART;TZID=UTC:20250917T180000
DTEND;TZID=UTC:20250917T200000
DTSTAMP:20260425T122112
CREATED:20250806T144132Z
LAST-MODIFIED:20250806T144132Z
UID:5088-1758132000-1758139200@kanepa.com
SUMMARY:Suicide Awareness: Out of the Darkness Walk at UPMC Kane
DESCRIPTION:
URL:https://kanepa.com/event/suicide-awareness-out-of-the-darkness-walk-at-upmc-kane/
LOCATION:UPMC Kane\, 4372 US-6\, Kane\, 16735\, United States
ATTACH;FMTTYPE=application/pdf:https://kanepa.com/wp-content/uploads/2025/08/Suicide-prevention-walk-2025.pdf
END:VEVENT
BEGIN:VEVENT
DTSTART;TZID=UTC:20250919T180000
DTEND;TZID=UTC:20250919T200000
DTSTAMP:20260425T122112
CREATED:20250910T141036Z
LAST-MODIFIED:20250910T141036Z
UID:5124-1758304800-1758312000@kanepa.com
SUMMARY:Strength in Stone at OG Crawford Amphitheater
DESCRIPTION:
URL:https://kanepa.com/event/strength-in-stone-at-og-crawford-amphitheater/
LOCATION:OG Crawford Ampitheatre\, Fraley Street\, Kane\, PA\, United States
ATTACH;FMTTYPE=image/png:https://kanepa.com/wp-content/uploads/2025/09/Strength-in-Stone-Flyer.png
END:VEVENT
BEGIN:VEVENT
DTSTART;TZID=UTC:20250920T100000
DTEND;TZID=UTC:20250921T170000
DTSTAMP:20260425T122112
CREATED:20250910T151221Z
LAST-MODIFIED:20250910T151221Z
UID:5140-1758362400-1758474000@kanepa.com
SUMMARY:Kinzua Bridge Fall Festival
DESCRIPTION:
URL:https://kanepa.com/event/kinzua-bridge-fall-festival/
LOCATION:Kinzua Bridge State Park
CATEGORIES:Family Friendly,Festival,Food
END:VEVENT
BEGIN:VEVENT
DTSTART;TZID=UTC:20250920T190000
DTEND;TZID=UTC:20250920T220000
DTSTAMP:20260425T122112
CREATED:20250910T151134Z
LAST-MODIFIED:20250910T151134Z
UID:5139-1758394800-1758405600@kanepa.com
SUMMARY:Live Music\, JB Unplugged at CJ Spirits
DESCRIPTION:
URL:https://kanepa.com/event/live-music-jb-unplugged-at-cj-spirits-9/
LOCATION:CJ Spirits\, 120 Willow Run Drive\, Kane\, PA\, 16735\, United States
END:VEVENT
BEGIN:VEVENT
DTSTART;TZID=UTC:20250922T180000
DTEND;TZID=UTC:20250922T190000
DTSTAMP:20260425T122112
CREATED:20250910T145040Z
LAST-MODIFIED:20250910T145040Z
UID:5134-1758564000-1758567600@kanepa.com
SUMMARY:Yoga at Kane Community Center
DESCRIPTION:
URL:https://kanepa.com/event/yoga-at-kane-community-center/
LOCATION:Kane Area Community Center\, 46 N. Fraley Street\, Kane\, PA\, 16735\, United States
ATTACH;FMTTYPE=image/jpeg:https://kanepa.com/wp-content/uploads/2025/09/thumbnail_file.jpg
END:VEVENT
BEGIN:VEVENT
DTSTART;TZID=UTC:20250923T120000
DTEND;TZID=UTC:20250923T170000
DTSTAMP:20260425T122112
CREATED:20250910T141739Z
LAST-MODIFIED:20250910T142051Z
UID:5127-1758628800-1758646800@kanepa.com
SUMMARY:Blood Drive at the Kane Community Center
DESCRIPTION:Donate in the month of September and be entered to win two tickets to an NFL football game of your choice!
URL:https://kanepa.com/event/blood-drive-at-the-kane-community-center/
LOCATION:Kane Area Community Center\, 46 N. Fraley Street\, Kane\, PA\, 16735\, United States
END:VEVENT
BEGIN:VEVENT
DTSTART;TZID=UTC:20250926T120000
DTEND;TZID=UTC:20250926T150000
DTSTAMP:20260425T122112
CREATED:20250910T141319Z
LAST-MODIFIED:20250910T141319Z
UID:5126-1758888000-1758898800@kanepa.com
SUMMARY:Kane Food Pantry Distribution
DESCRIPTION:First letter of lame name distribution times: \n12-1pm R through Z \n1-2pm A through H \n2-3pm I through Q \n  \nBehind St Callistus Church
URL:https://kanepa.com/event/kane-food-pantry-distribution/
END:VEVENT
BEGIN:VEVENT
DTSTART;TZID=UTC:20250926T170000
DTEND;TZID=UTC:20250926T200000
DTSTAMP:20260425T122112
CREATED:20250924T155041Z
LAST-MODIFIED:20250924T155041Z
UID:5148-1758906000-1758916800@kanepa.com
SUMMARY:Pasta Night at Flickerwood Winery
DESCRIPTION:Call 814-837-7566 for reservations! Italian Sausage and Rigatoni\, side salad and garlic bread!
URL:https://kanepa.com/event/pasta-night-at-flickerwood-winery-5/
LOCATION:Flickerwood Wine Cellars & Cocktail Lounge\, 309 Flickerwood Rd\, Kane\, PA\, 16735\, United States
END:VEVENT
BEGIN:VEVENT
DTSTART;TZID=UTC:20250927T120000
DTEND;TZID=UTC:20250927T160000
DTSTAMP:20260425T122112
CREATED:20250924T155718Z
LAST-MODIFIED:20250924T155718Z
UID:5150-1758974400-1758988800@kanepa.com
SUMMARY:Family Fall Festival at Country Pines Ice Cream
DESCRIPTION:Family event with free activities\, live animals\, bounce house\, games\, festival treats\, bake sale\, kids train ride\, and more!
URL:https://kanepa.com/event/family-fall-festival-at-country-pines-ice-cream/
LOCATION:Country Pines Ice Cream\, 25 Pine Haven Dr\, Kane\, PA\, 16735
END:VEVENT
BEGIN:VEVENT
DTSTART;TZID=UTC:20250928T130000
DTEND;TZID=UTC:20250928T150000
DTSTAMP:20260425T122112
CREATED:20250924T162952Z
LAST-MODIFIED:20250924T162952Z
UID:5153-1759064400-1759071600@kanepa.com
SUMMARY:Paint a Pumpkin and Sip at Twisted Vine Winery
DESCRIPTION:
URL:https://kanepa.com/event/paint-a-pumpkin-and-sip-at-twisted-vine-winery/
LOCATION:Twisted Vine Winery\, 117 N Fraley St\, Kane\, PA\, 16735
END:VEVENT
BEGIN:VEVENT
DTSTART;TZID=UTC:20250928T180000
DTEND;TZID=UTC:20250928T193000
DTSTAMP:20260425T122112
CREATED:20250924T152803Z
LAST-MODIFIED:20250924T152803Z
UID:5145-1759082400-1759087800@kanepa.com
SUMMARY:Night Games in the Park
DESCRIPTION:Open to all youth grades 6-12. Meet at Evergreen Park. \nHosted by the Kane Methodist Church
URL:https://kanepa.com/event/night-games-in-the-park/
LOCATION:Evergreen Park\, Birch Street\, Kane\, 16735\, United States
CATEGORIES:Activity
END:VEVENT
BEGIN:VEVENT
DTSTART;TZID=UTC:20250929T180000
DTEND;TZID=UTC:20250929T190000
DTSTAMP:20260425T122112
CREATED:20250910T145146Z
LAST-MODIFIED:20250910T145146Z
UID:5135-1759168800-1759172400@kanepa.com
SUMMARY:Yoga at Kane Community Center
DESCRIPTION:
URL:https://kanepa.com/event/yoga-at-kane-community-center-2/
LOCATION:Kane Area Community Center\, 46 N. Fraley Street\, Kane\, PA\, 16735\, United States
ATTACH;FMTTYPE=image/jpeg:https://kanepa.com/wp-content/uploads/2025/09/thumbnail_file.jpg
END:VEVENT
BEGIN:VEVENT
DTSTART;TZID=UTC:20251002T163000
DTEND;TZID=UTC:20251002T183000
DTSTAMP:20260425T122112
CREATED:20250827T141540Z
LAST-MODIFIED:20250827T141935Z
UID:5118-1759422600-1759429800@kanepa.com
SUMMARY:Roach-Bauer Forestry Forum Program
DESCRIPTION:Reservations required. RSVP is to go to Amy Shields at ashields@ahug.com \n 
URL:https://kanepa.com/event/roach-bauer-forestry-forum-program/
LOCATION:Wilcox Community Building\, 320 Faries St\, Wilcox\, PA\, 15870
ATTACH;FMTTYPE=application/pdf:https://kanepa.com/wp-content/uploads/2025/08/8d540d11-228c-4aec-8254-ed75b6f64605.pdf
END:VEVENT
BEGIN:VEVENT
DTSTART;TZID=UTC:20251003T080000
DTEND;TZID=UTC:20251004T170000
DTSTAMP:20260425T122112
CREATED:20251001T160422Z
LAST-MODIFIED:20251001T160422Z
UID:5159-1759478400-1759597200@kanepa.com
SUMMARY:Taylor Swift The Life of a Showgirl Album release Movie at the Kane Family Drive In
DESCRIPTION:Doors open at 6 p.m.\, movie starts at 7:30 p.m. $12 per person of all ages.
URL:https://kanepa.com/event/taylor-swift-the-life-of-a-showgirl-album-release-movie-at-the-kane-family-drive-in/
LOCATION:Kane Family Drive In\, 6627 US-6\, Kane\, PA\, 16735\, United States
END:VEVENT
BEGIN:VEVENT
DTSTART;TZID=UTC:20251004T100000
DTEND;TZID=UTC:20251004T130000
DTSTAMP:20260425T122112
CREATED:20250910T151755Z
LAST-MODIFIED:20250910T151755Z
UID:5141-1759572000-1759582800@kanepa.com
SUMMARY:Harvest Gathering at Between the Pines Blooms and Botanicals
DESCRIPTION:
URL:https://kanepa.com/event/harvest-gathering-at-between-the-pines-blooms-and-botanicals/
LOCATION:Between the Pines- Blooms and Botanicals\, 6786 Route 6\, Kane\, PA\, 16735
END:VEVENT
BEGIN:VEVENT
DTSTART;TZID=UTC:20251004T150000
DTEND;TZID=UTC:20251004T170000
DTSTAMP:20260425T122112
CREATED:20250820T151757Z
LAST-MODIFIED:20250820T151757Z
UID:5101-1759590000-1759597200@kanepa.com
SUMMARY:Purse Bingo at the Kane Elks
DESCRIPTION:
URL:https://kanepa.com/event/purse-bingo-at-the-kane-elks/
LOCATION:Kane Elks Lodge 329\, 210 Chestnut Street\, Kane\, PA\, 16735\, United States
END:VEVENT
BEGIN:VEVENT
DTSTART;TZID=UTC:20251005T110000
DTEND;TZID=UTC:20251005T160000
DTSTAMP:20260425T122112
CREATED:20251001T162844Z
LAST-MODIFIED:20251001T162844Z
UID:5161-1759662000-1759680000@kanepa.com
SUMMARY:Live Music\, Coffee\, and Food at Wilds Sonshine Factory
DESCRIPTION:
URL:https://kanepa.com/event/live-music-coffee-and-food-at-wilds-sonshine-factory/
LOCATION:Wilds Sonshine Factory\, 3480 Route 6 West\, Kane\, PA\, 16735\, United States
END:VEVENT
BEGIN:VEVENT
DTSTART;TZID=UTC:20251005T130000
DTEND;TZID=UTC:20251005T190000
DTSTAMP:20260425T122112
CREATED:20250910T145816Z
LAST-MODIFIED:20250910T145816Z
UID:5138-1759669200-1759690800@kanepa.com
SUMMARY:Kane Chamber's Guest Bartending Event
DESCRIPTION:
URL:https://kanepa.com/event/kane-chambers-guest-bartending-event/
LOCATION:Table 105\, 105 N Fraley St\, Kane\, PA
END:VEVENT
END:VCALENDAR