BEGIN:VCALENDAR
VERSION:2.0
PRODID:-// - ECPv6.11.2.1//NONSGML v1.0//EN
CALSCALE:GREGORIAN
METHOD:PUBLISH
X-ORIGINAL-URL:https://kanepa.com
X-WR-CALDESC:Events for 
REFRESH-INTERVAL;VALUE=DURATION:PT1H
X-Robots-Tag:noindex
X-PUBLISHED-TTL:PT1H
BEGIN:VTIMEZONE
TZID:UTC
BEGIN:STANDARD
TZOFFSETFROM:+0000
TZOFFSETTO:+0000
TZNAME:UTC
DTSTART:20240101T000000
END:STANDARD
END:VTIMEZONE
BEGIN:VTIMEZONE
TZID:America/New_York
BEGIN:DAYLIGHT
TZOFFSETFROM:-0500
TZOFFSETTO:-0400
TZNAME:EDT
DTSTART:20240310T070000
END:DAYLIGHT
BEGIN:STANDARD
TZOFFSETFROM:-0400
TZOFFSETTO:-0500
TZNAME:EST
DTSTART:20241103T060000
END:STANDARD
END:VTIMEZONE
BEGIN:VEVENT
DTSTART;TZID=UTC:20240622T150000
DTEND;TZID=UTC:20240622T180000
DTSTAMP:20260420T100029
CREATED:20240604T234211Z
LAST-MODIFIED:20240604T234211Z
UID:4375-1719068400-1719079200@kanepa.com
SUMMARY:Kane June Concert Series- Beagle Brothers
DESCRIPTION:
URL:https://kanepa.com/event/kane-june-concert-series-beagle-brothers/
LOCATION:OG Crawford Ampitheatre\, Fraley Street\, Kane\, PA\, United States
CATEGORIES:Community,Family Friendly,Music
ORGANIZER;CN="Kane Chamber of Commerce":MAILTO:info@kanepa.com
END:VEVENT
BEGIN:VEVENT
DTSTART;TZID=UTC:20240622T130000
DTEND;TZID=UTC:20240622T160000
DTSTAMP:20260420T100029
CREATED:20240618T003720Z
LAST-MODIFIED:20240618T003720Z
UID:4415-1719061200-1719072000@kanepa.com
SUMMARY:Randy A at the Elks Club
DESCRIPTION:
URL:https://kanepa.com/event/randy-a-at-the-elks-club/
LOCATION:Kane Elks Lodge 329\, 210 Chestnut Street\, Kane\, PA\, 16735\, United States
CATEGORIES:Music
END:VEVENT
BEGIN:VEVENT
DTSTART;TZID=UTC:20240622T130000
DTEND;TZID=UTC:20240622T140000
DTSTAMP:20260420T100029
CREATED:20240618T002849Z
LAST-MODIFIED:20240618T002849Z
UID:4414-1719061200-1719064800@kanepa.com
SUMMARY:Landscape Art Class
DESCRIPTION:Landscape Art Class for students exiting 2nd through 5th grade at the Chestnut Street Center. Presented by KAHS graduate Max Smith in partnership with the Kane Area Children’s Museum. Pre-registration required at llorenzo697@gmail.com. $10 per student.
URL:https://kanepa.com/event/landscape-art-class-2/
LOCATION:Chestnut Street Center\, 226 Chestnut Street\, Kane\, PA
CATEGORIES:Community,Family Friendly
END:VEVENT
BEGIN:VEVENT
DTSTART;TZID=UTC:20240622T120000
DTEND;TZID=UTC:20240622T160000
DTSTAMP:20260420T100029
CREATED:20240618T002545Z
LAST-MODIFIED:20240618T002545Z
UID:4411-1719057600-1719072000@kanepa.com
SUMMARY:Caricaturist at Chestnut Street Center Lawn
DESCRIPTION:Proceeds benefit Kane Area Children’s Museum.
URL:https://kanepa.com/event/caricaturist-at-chestnut-street-center-lawn/
LOCATION:Chestnut Street Center\, 226 Chestnut Street\, Kane\, PA
CATEGORIES:Community,Family Friendly,Fund Raiser
END:VEVENT
BEGIN:VEVENT
DTSTART;TZID=UTC:20240622T120000
DTEND;TZID=UTC:20240622T140000
DTSTAMP:20260420T100029
CREATED:20240618T002328Z
LAST-MODIFIED:20240618T002328Z
UID:4408-1719057600-1719064800@kanepa.com
SUMMARY:Open House at the Kane Area High School
DESCRIPTION:
URL:https://kanepa.com/event/open-house-at-the-kane-area-high-school/
LOCATION:Kane Area High School\, 6965 PA-321\, Kane\, PA
CATEGORIES:Community,Educational,Family Friendly
END:VEVENT
BEGIN:VEVENT
DTSTART;TZID=UTC:20240622T110000
DTEND;TZID=UTC:20240622T140000
DTSTAMP:20260420T100029
CREATED:20240618T002142Z
LAST-MODIFIED:20240618T002142Z
UID:4407-1719054000-1719064800@kanepa.com
SUMMARY:New Book Release & Book Signing at the Depot
DESCRIPTION:The Kane Historic Preservation Society is releasing Focusing The Lens of Exploration\, A photographic Journey Through the Life of a 19th Century Polymath about Elizabeth Kane’s photography. Andrew Kane- the great\, great grandson of Elizabeth- wrote the forward and epilogue and he will be signing books.
URL:https://kanepa.com/event/new-book-release-book-signing-at-the-depot/
LOCATION:Kane Depot\, 1 Fraley Street\, Kane\, PA\, 16735\, United States
CATEGORIES:Community,Educational
END:VEVENT
BEGIN:VEVENT
DTSTART;TZID=UTC:20240622T110000
DTEND;TZID=UTC:20240622T120000
DTSTAMP:20260420T100029
CREATED:20240618T001405Z
LAST-MODIFIED:20240618T002739Z
UID:4405-1719054000-1719057600@kanepa.com
SUMMARY:Landscape Art Class
DESCRIPTION:Landscape Art Class for students exiting 2nd through 5th grade at the Chestnut Street Center. Presented by KAHS graduate Max Smith in partnership with the Kane Area Children’s Museum. Pre-registration required at llorenzo697@gmail.com. $10 per student.
URL:https://kanepa.com/event/landscape-art-class/
LOCATION:Chestnut Street Center\, 226 Chestnut Street\, Kane\, PA
END:VEVENT
BEGIN:VEVENT
DTSTART;TZID=UTC:20240622T100000
DTEND;TZID=UTC:20240623T160000
DTSTAMP:20260420T100029
CREATED:20240604T235337Z
LAST-MODIFIED:20240604T235337Z
UID:4377-1719050400-1719158400@kanepa.com
SUMMARY:Art in the Wilds
DESCRIPTION:
URL:https://kanepa.com/event/art-in-the-wilds/
LOCATION:Evergreen Park\, Birch Street\, Kane\, 16735\, United States
CATEGORIES:Community,Family Friendly
END:VEVENT
BEGIN:VEVENT
DTSTART;TZID=UTC:20240622T100000
DTEND;TZID=UTC:20240622T150000
DTSTAMP:20260420T100029
CREATED:20240618T000823Z
LAST-MODIFIED:20240618T000823Z
UID:4403-1719050400-1719068400@kanepa.com
SUMMARY:Grand Reopening of Between the Pines- Blooms and Botanicals
DESCRIPTION:NEW location (6786 Route 6). Dainty Lane Permanent Jewelry will be there from 11 -1 and The hungry Huntsman will be serving up delicious food throughout the day.
URL:https://kanepa.com/event/grand-reopening-of-between-the-pines-blooms-and-botanicals/
LOCATION:6786 Route 6\, 6786 Route 6\, Kane\, PA
END:VEVENT
BEGIN:VEVENT
DTSTART;TZID=UTC:20240622T100000
DTEND;TZID=UTC:20240622T143000
DTSTAMP:20260420T100029
CREATED:20240618T000631Z
LAST-MODIFIED:20240618T000631Z
UID:4401-1719050400-1719066600@kanepa.com
SUMMARY:TAMED at the Hamlin Bank
DESCRIPTION:The Trail Association of the McKean/Elk Divide (TAMED) will be set up at the Hamlin Bank drive thru (2 Birch Street). They will be available to answer questions\, share trail information and updates\, and have merch for sale. Purchase tickets for a chance to win an original Denny Driscoll painting. Winner drawn at 3 p.m. at Art in the Wilds hospitality tent.
URL:https://kanepa.com/event/tamed-at-the-hamlin-bank/
LOCATION:Hamlin Bank\, 2 Birch St\, Kane\, PA
CATEGORIES:Community,Educational,Family Friendly
END:VEVENT
BEGIN:VEVENT
DTSTART;TZID=UTC:20240622T100000
DTEND;TZID=UTC:20240622T140000
DTSTAMP:20260420T100029
CREATED:20240618T000313Z
LAST-MODIFIED:20240618T000313Z
UID:4399-1719050400-1719064800@kanepa.com
SUMMARY:Alumni Weekend Craft Fair at the Kane Area Community Center
DESCRIPTION:
URL:https://kanepa.com/event/alumni-weekend-craft-fair-at-the-kane-area-community-center/
LOCATION:Kane Area Community Center\, 46 N. Fraley Street\, Kane\, PA\, 16735\, United States
CATEGORIES:Shopping
END:VEVENT
BEGIN:VEVENT
DTSTART;TZID=UTC:20240622T090000
DTEND;TZID=UTC:20240622T130000
DTSTAMP:20260420T100029
CREATED:20240618T000051Z
LAST-MODIFIED:20240618T000051Z
UID:4397-1719046800-1719061200@kanepa.com
SUMMARY:Kane Farmers and Artisans Market
DESCRIPTION:
URL:https://kanepa.com/event/kane-farmers-and-artisans-market/
LOCATION:300 N. Fraley Street\, 300 N. Fraley Street
CATEGORIES:Community,Family Friendly,Food,Shopping
END:VEVENT
BEGIN:VEVENT
DTSTART;TZID=UTC:20240622T080000
DTEND;TZID=UTC:20240622T110000
DTSTAMP:20260420T100029
CREATED:20240617T235458Z
LAST-MODIFIED:20240617T235458Z
UID:4395-1719043200-1719054000@kanepa.com
SUMMARY:Alumni Breakfast at the Elks Club
DESCRIPTION:
URL:https://kanepa.com/event/alumni-breakfast-at-the-elks-club/
LOCATION:Kane Elks Lodge 329\, 210 Chestnut Street\, Kane\, PA\, 16735\, United States
CATEGORIES:Community,Food
END:VEVENT
BEGIN:VEVENT
DTSTART;TZID=UTC:20240621T213000
DTEND;TZID=UTC:20240621T233000
DTSTAMP:20260420T100029
CREATED:20240617T235246Z
LAST-MODIFIED:20240617T235932Z
UID:4394-1719005400-1719012600@kanepa.com
SUMMARY:County Lines at the Elks Club
DESCRIPTION:From 9:30 pm to 1:30 am
URL:https://kanepa.com/event/county-lines-at-the-elks-club/
LOCATION:Kane Elks Lodge 329\, 210 Chestnut Street\, Kane\, PA\, 16735\, United States
CATEGORIES:Music
END:VEVENT
BEGIN:VEVENT
DTSTART;TZID=UTC:20240621T210000
DTEND;TZID=UTC:20240621T233000
DTSTAMP:20260420T100029
CREATED:20240617T235106Z
LAST-MODIFIED:20240617T235833Z
UID:4392-1719003600-1719012600@kanepa.com
SUMMARY:DJ Devo at the Eagles Club
DESCRIPTION:9:00 pm to 1:00 am
URL:https://kanepa.com/event/dj-devo-at-the-eagles-club/
LOCATION:Eagles Club\, 238 Chase Street\, Kane\, PA
CATEGORIES:Music
END:VEVENT
BEGIN:VEVENT
DTSTART;TZID=UTC:20240621T200000
DTEND;TZID=UTC:20240621T230000
DTSTAMP:20260420T100029
CREATED:20240617T234742Z
LAST-MODIFIED:20240617T234742Z
UID:4390-1719000000-1719010800@kanepa.com
SUMMARY:Kallie Williams at Table 105
DESCRIPTION:LIVE MUSIC: Kallie Williams at Table 105 (105 Fraley Street)
URL:https://kanepa.com/event/kallie-williams-at-table-105/
LOCATION:Table 105\, 105 N Fraley St\, Kane\, PA
CATEGORIES:Music
END:VEVENT
BEGIN:VEVENT
DTSTART;TZID=UTC:20240621T193000
DTEND;TZID=UTC:20240621T223000
DTSTAMP:20260420T100029
CREATED:20240617T234407Z
LAST-MODIFIED:20240617T234407Z
UID:4389-1718998200-1719009000@kanepa.com
SUMMARY:Mojo Dogs at CJ Spirits
DESCRIPTION:IVE MUSIC: Mojo Dogs at CJ Spirits outdoor stage (120 Willow Run Drive)
URL:https://kanepa.com/event/mojo-dogs-at-cj-spirits/
LOCATION:CJ Spirits\, 120 Willow Run Drive\, Kane\, PA\, 16735\, United States
CATEGORIES:Music
END:VEVENT
BEGIN:VEVENT
DTSTART;TZID=UTC:20240621T190000
DTEND;TZID=UTC:20240621T220000
DTSTAMP:20260420T100029
CREATED:20240617T234247Z
LAST-MODIFIED:20240617T234247Z
UID:4388-1718996400-1719007200@kanepa.com
SUMMARY:Staplehead at Logyard Brewing Taproom
DESCRIPTION:LIVE MUSIC: Staplehead at Logyard Brewing Taproom (103 Fraley Street)
URL:https://kanepa.com/event/staplehead-at-logyard-brewing-taproom/
LOCATION:Logyard Brewing Taproom\, 103 N Fraley Street\, Kane\, PA\, 16735\, United States
CATEGORIES:Music
END:VEVENT
BEGIN:VEVENT
DTSTART;TZID=UTC:20240621T180000
DTEND;TZID=UTC:20240621T220000
DTSTAMP:20260420T100029
CREATED:20240617T233956Z
LAST-MODIFIED:20240617T233956Z
UID:4387-1718992800-1719007200@kanepa.com
SUMMARY:Thunderskulls at the O.G. Crawford Amphitheater
DESCRIPTION:LIVE MUSIC: Thunderskulls at the O.G. Crawford Amphitheater (92 Fraley Street) sponsored by the Class of 1994.
URL:https://kanepa.com/event/thunderskulls-at-the-o-g-crawford-amphitheater/
LOCATION:OG Crawford Ampitheatre\, Fraley Street\, Kane\, PA\, United States
CATEGORIES:Music
END:VEVENT
BEGIN:VEVENT
DTSTART;TZID=UTC:20240621T180000
DTEND;TZID=UTC:20240621T210000
DTSTAMP:20260420T100029
CREATED:20240617T233620Z
LAST-MODIFIED:20240617T233620Z
UID:4386-1718992800-1719003600@kanepa.com
SUMMARY:GrooVe Bros at Wilds Sonshine Factory
DESCRIPTION:LIVE MUSIC: GrooVe Bros at Wilds Sonshine Factory (3480 Route 6 West).
URL:https://kanepa.com/event/groove-bros-at-wilds-sonshine-factory/
LOCATION:Wilds Sonshine Factory\, 3480 Route 6 West\, Kane\, PA\, 16735\, United States
CATEGORIES:Food,Music
ORGANIZER;CN="Wilds Sonshine Factory":MAILTO:info@wildssonshinefactory.org
END:VEVENT
BEGIN:VEVENT
DTSTART;TZID=UTC:20240621T170000
DTEND;TZID=UTC:20240621T190000
DTSTAMP:20260420T100029
CREATED:20240617T233422Z
LAST-MODIFIED:20240617T233422Z
UID:4385-1718989200-1718996400@kanepa.com
SUMMARY:Free Wine Tastings at Flickerwood Wine Cellars
DESCRIPTION:Free wine tastings for all KHS Alumni at Flickerwood Wine Cellars (309 Flickerwood Road). Discount on cheese boards and specialty cocktails.
URL:https://kanepa.com/event/free-wine-tastings-at-flickerwood-wine-cellars/
LOCATION:Flickerwood Wine Cellars & Cocktail Lounge\, 309 Flickerwood Rd\, Kane\, PA\, 16735\, United States
CATEGORIES:Food
END:VEVENT
BEGIN:VEVENT
DTSTART;TZID=America/New_York:20240621T160000
DTEND;TZID=America/New_York:20240621T200000
DTSTAMP:20260420T100029
CREATED:20240617T230818Z
LAST-MODIFIED:20240617T230818Z
UID:4381-1718985600-1719000000@kanepa.com
SUMMARY:Drinks on the Veranda - John Sicher
DESCRIPTION:
URL:https://kanepa.com/event/drinks-on-the-veranda-john-sicher/
LOCATION:Kane Manor Inn\, 230 Clay Street\, Kane\, PA\, 16735\, United States
END:VEVENT
BEGIN:VEVENT
DTSTART;TZID=UTC:20240621T090000
DTEND;TZID=UTC:20240621T170000
DTSTAMP:20260420T100029
CREATED:20240617T233140Z
LAST-MODIFIED:20240617T233140Z
UID:4382-1718960400-1718989200@kanepa.com
SUMMARY:Fittest Alumni Challenge at Lobo Fitness
DESCRIPTION:Fittest Alumni Challenge at Lobo Fitness (27 Fraley Street). Stop in anytime during those hours to complete the challenge and have your name and time on the board. $15 entry fee.
URL:https://kanepa.com/event/fittest-alumni-challenge-at-lobo-fitness/
LOCATION:Lobo Fitness\, 27 N Fraley St Suite 3\, Kane\, PA
CATEGORIES:Community
END:VEVENT
BEGIN:VEVENT
DTSTART;TZID=UTC:20240615T150000
DTEND;TZID=UTC:20240615T163000
DTSTAMP:20260420T100029
CREATED:20240524T202814Z
LAST-MODIFIED:20240524T202830Z
UID:4374-1718463600-1718469000@kanepa.com
SUMMARY:Kane June Concert Series - Marty's Bubblegum Machine
DESCRIPTION:
URL:https://kanepa.com/event/kane-june-concert-series-martys-bubblegum-machine/
LOCATION:OG Crawford Ampitheatre\, Fraley Street\, Kane\, PA\, United States
END:VEVENT
BEGIN:VEVENT
DTSTART;TZID=America/New_York:20240614T160000
DTEND;TZID=America/New_York:20240614T200000
DTSTAMP:20260420T100029
CREATED:20240524T202647Z
LAST-MODIFIED:20240524T202647Z
UID:4373-1718380800-1718395200@kanepa.com
SUMMARY:Drinks on the Veranda - GrooVe Brothers
DESCRIPTION:
URL:https://kanepa.com/event/drinks-on-the-veranda-groove-brothers/
LOCATION:Kane Manor Inn\, 230 Clay Street\, Kane\, PA\, 16735\, United States
END:VEVENT
BEGIN:VEVENT
DTSTART;TZID=UTC:20240613T173000
DTEND;TZID=UTC:20240613T203000
DTSTAMP:20260420T100029
CREATED:20240503T022326Z
LAST-MODIFIED:20240503T022326Z
UID:4362-1718299800-1718310600@kanepa.com
SUMMARY:Joy Emer's Stained Glass Workshop
DESCRIPTION:Ever been mesmerized by the vibrant glow of stained glass? In this introductory workshop\, you’ll have the opportunity to transform your own work of art. \nNo prior experience is necessary! Our skilled instructor\, Joy Emer\, will guide you through every step\, from selecting stunning glass pieces to learning the techniques of cutting\, foiling\, and soldering. You’ll learn the fundamentals of this ancient yet ever-evolving art form\, while creating a captivating suncatcher to proudly display in your home. \nYou must be 18+ to join this workshop. There are limited spots! \nAll materials are included\, so you can focus on unleashing your inner artist and letting your creativity shine. Join us and discover the magic of stained glass! \nThis workshop is designed for individuals with a strong interest and commitment to attending. As space is limited\, we kindly ask that you only sign up if you are confident you can attend the full session. This ensures a meaningful experience for all participants and allows us to offer the opportunity to those who are truly dedicated. Please note that due to limited space\, individuals who register but do not attend will not be prioritized for future events. \nThis workshop is supported in part by the Pennsylvania Council on the Arts\, a state agency funded by the Commonwealth of Pennsylvania.
URL:https://kanepa.com/event/joy-emers-stained-glass-workshop-3/
LOCATION:Laughing Owl Press\, 59 North Fraley St\, Kane\, PA\, 16735\, United States
ORGANIZER;CN="Kane Chamber of Commerce":MAILTO:info@kanepa.com
END:VEVENT
BEGIN:VEVENT
DTSTART;TZID=UTC:20240608T160000
DTEND;TZID=UTC:20240608T200000
DTSTAMP:20260420T100029
CREATED:20240524T202518Z
LAST-MODIFIED:20240524T202518Z
UID:4372-1717862400-1717876800@kanepa.com
SUMMARY:Kane June Concert Series - Kallie & Co.
DESCRIPTION:
URL:https://kanepa.com/event/kane-june-concert-series-kallie-co/
LOCATION:Kane Manor Inn\, 230 Clay Street\, Kane\, PA\, 16735\, United States
END:VEVENT
BEGIN:VEVENT
DTSTART;TZID=America/New_York:20240607T160000
DTEND;TZID=America/New_York:20240607T200000
DTSTAMP:20260420T100029
CREATED:20240524T194234Z
LAST-MODIFIED:20240524T202921Z
UID:4371-1717776000-1717790400@kanepa.com
SUMMARY:Drinks on the Veranda - Sixpence
DESCRIPTION:Open to the public
URL:https://kanepa.com/event/drinks-of-the-veranda-sixpence/
LOCATION:Kane Manor Inn\, 230 Clay Street\, Kane\, PA\, 16735\, United States
END:VEVENT
BEGIN:VEVENT
DTSTART;TZID=UTC:20240606T173000
DTEND;TZID=UTC:20240606T203000
DTSTAMP:20260420T100029
CREATED:20240503T022122Z
LAST-MODIFIED:20240503T022122Z
UID:4361-1717695000-1717705800@kanepa.com
SUMMARY:Joy Emer's Stained Glass Workshop
DESCRIPTION:Ever been mesmerized by the vibrant glow of stained glass? In this introductory workshop\, you’ll have the opportunity to transform your own work of art. \nNo prior experience is necessary! Our skilled instructor\, Joy Emer\, will guide you through every step\, from selecting stunning glass pieces to learning the techniques of cutting\, foiling\, and soldering. You’ll learn the fundamentals of this ancient yet ever-evolving art form\, while creating a captivating suncatcher to proudly display in your home. \nYou must be 18+ to join this workshop. There are limited spots! \nAll materials are included\, so you can focus on unleashing your inner artist and letting your creativity shine. Join us and discover the magic of stained glass! \nThis workshop is designed for individuals with a strong interest and commitment to attending. As space is limited\, we kindly ask that you only sign up if you are confident you can attend the full session. This ensures a meaningful experience for all participants and allows us to offer the opportunity to those who are truly dedicated. Please note that due to limited space\, individuals who register but do not attend will not be prioritized for future events. \nThis workshop is supported in part by the Pennsylvania Council on the Arts\, a state agency funded by the Commonwealth of Pennsylvania.
URL:https://kanepa.com/event/joy-emers-stained-glass-workshop-2/
LOCATION:Laughing Owl Press\, 59 North Fraley St\, Kane\, PA\, 16735\, United States
ORGANIZER;CN="Kane Chamber of Commerce":MAILTO:info@kanepa.com
END:VEVENT
BEGIN:VEVENT
DTSTART;TZID=America/New_York:20240601T150000
DTEND;TZID=America/New_York:20240601T180000
DTSTAMP:20260420T100029
CREATED:20240524T193938Z
LAST-MODIFIED:20240524T193938Z
UID:4369-1717254000-1717264800@kanepa.com
SUMMARY:Kane June Concert Series - JP Unplugged
DESCRIPTION:
URL:https://kanepa.com/event/kane-june-concert-series-jp-unplugged/
LOCATION:OG Crawford Ampitheatre\, Fraley Street\, Kane\, PA\, United States
END:VEVENT
END:VCALENDAR