BEGIN:VCALENDAR
VERSION:2.0
PRODID:-// - ECPv6.11.2.1//NONSGML v1.0//EN
CALSCALE:GREGORIAN
METHOD:PUBLISH
X-ORIGINAL-URL:https://kanepa.com
X-WR-CALDESC:Events for 
REFRESH-INTERVAL;VALUE=DURATION:PT1H
X-Robots-Tag:noindex
X-PUBLISHED-TTL:PT1H
BEGIN:VTIMEZONE
TZID:UTC
BEGIN:STANDARD
TZOFFSETFROM:+0000
TZOFFSETTO:+0000
TZNAME:UTC
DTSTART:20250101T000000
END:STANDARD
END:VTIMEZONE
BEGIN:VEVENT
DTSTART;TZID=UTC:20250325T120000
DTEND;TZID=UTC:20250325T170000
DTSTAMP:20260424T132209
CREATED:20250219T163330Z
LAST-MODIFIED:20250219T163330Z
UID:4907-1742904000-1742922000@kanepa.com
SUMMARY:Community Blood Bank at the Kane Community Center
DESCRIPTION:
URL:https://kanepa.com/event/community-blood-bank-at-the-kane-community-center/
LOCATION:Kane Area Community Center\, 46 N. Fraley Street\, Kane\, PA\, 16735\, United States
END:VEVENT
BEGIN:VEVENT
DTSTART;TZID=UTC:20250327T170000
DTEND;TZID=UTC:20250327T190000
DTSTAMP:20260424T132209
CREATED:20250225T183037Z
LAST-MODIFIED:20250225T183037Z
UID:4914-1743094800-1743102000@kanepa.com
SUMMARY:Kane Area Children's Museum Tours and Brief Presentations
DESCRIPTION:Located at 226 Chestnut St. in Kane; Enjoy an evening of appetizers and drinks at this free event\, while learning what we’ve been up to! RSVP requested but not required. This event is for 21+ only.
URL:https://kanepa.com/event/kane-area-childrens-museum-tours-and-brief-presentations/
LOCATION:PA
END:VEVENT
BEGIN:VEVENT
DTSTART;TZID=UTC:20250327T170000
DTEND;TZID=UTC:20250327T190000
DTSTAMP:20260424T132209
CREATED:20250311T150334Z
LAST-MODIFIED:20250311T150334Z
UID:4934-1743094800-1743102000@kanepa.com
SUMMARY:Rebecca Titchner Author Event at Friends Memorial Library
DESCRIPTION:
URL:https://kanepa.com/event/rebecca-titchner-author-event-at-friends-memorial-library/
LOCATION:Friends Memorial Public Library\, 230 Chase Street\, Kane\, PA\, 16735\, United States
END:VEVENT
BEGIN:VEVENT
DTSTART;TZID=UTC:20250329T090000
DTEND;TZID=UTC:20250329T103000
DTSTAMP:20260424T132209
CREATED:20250129T160843Z
LAST-MODIFIED:20250129T160843Z
UID:4879-1743238800-1743244200@kanepa.com
SUMMARY:Spring Session Nutritional Tips & Accountability
DESCRIPTION:Join Jillian Chittester for a morning of motivation and accountability when it comes to your fitness and health goals. Learn 10 tips to get on track and leave with an accountability tool that you will be interactive in for the follow-up month.\n$15.00\nWhat to Bring:\nLaptop or Pen/Paper Optional!\n\n\nComplimentary Coffee From Root Bar!\nDisclaimer: I am not a dietician and will not be prescribing you a “diet plan”. I am a health educator helping you navigate your weightloss/body composition goals through science and modern research.
URL:https://kanepa.com/event/spring-session-nutritional-tips-accountability/
LOCATION:Six and Kane\, 63 North Fraley St\, Kane\, PA\, 16735\, United States
END:VEVENT
BEGIN:VEVENT
DTSTART;TZID=UTC:20250331T160000
DTEND;TZID=UTC:20250331T210000
DTSTAMP:20260424T132209
CREATED:20250311T152445Z
LAST-MODIFIED:20250311T152445Z
UID:4939-1743436800-1743454800@kanepa.com
SUMMARY:Presbyterian Youth Group Fundraiser
DESCRIPTION:At the Barrel House Restaurant
URL:https://kanepa.com/event/presbyterian-youth-group-fundraiser/
LOCATION:Barrel House Restaurant\, 8946 Route Six\, Kane\, PA\, 16735
END:VEVENT
BEGIN:VEVENT
DTSTART;TZID=UTC:20250404T180000
DTEND;TZID=UTC:20250404T200000
DTSTAMP:20260424T132209
CREATED:20250219T162648Z
LAST-MODIFIED:20250219T162648Z
UID:4903-1743789600-1743796800@kanepa.com
SUMMARY:Family Fun Night at Kane Community Center
DESCRIPTION:
URL:https://kanepa.com/event/family-fun-night-at-kane-community-center/
LOCATION:Kane Area Community Center\, 46 N. Fraley Street\, Kane\, PA\, 16735\, United States
END:VEVENT
BEGIN:VEVENT
DTSTART;TZID=UTC:20250412T090000
DTEND;TZID=UTC:20250412T120000
DTSTAMP:20260424T132209
CREATED:20250115T152044Z
LAST-MODIFIED:20250115T152044Z
UID:4833-1744448400-1744459200@kanepa.com
SUMMARY:Easter Bunny Pancake Party at the Kane Area Community Center
DESCRIPTION:
URL:https://kanepa.com/event/easter-bunny-pancake-party-at-the-kane-area-community-center/
LOCATION:Kane Area Community Center\, 46 N. Fraley Street\, Kane\, PA\, 16735\, United States
ATTACH;FMTTYPE=image/png:https://kanepa.com/wp-content/uploads/2025/01/easter25.png
END:VEVENT
BEGIN:VEVENT
DTSTART;TZID=UTC:20250412T110000
DTEND;TZID=UTC:20250412T130000
DTSTAMP:20260424T132209
CREATED:20250305T152640Z
LAST-MODIFIED:20250305T152640Z
UID:4921-1744455600-1744462800@kanepa.com
SUMMARY:Easter Activity at Friends Memorial Library
DESCRIPTION:
URL:https://kanepa.com/event/easter-activity-at-friends-memorial-library/
LOCATION:Friends Memorial Public Library\, 230 Chase Street\, Kane\, PA\, 16735\, United States
ATTACH;FMTTYPE=image/jpeg:https://kanepa.com/wp-content/uploads/2025/03/easter-activity.jpg
END:VEVENT
BEGIN:VEVENT
DTSTART;TZID=UTC:20250412T120000
DTEND;TZID=UTC:20250412T140000
DTSTAMP:20260424T132209
CREATED:20250115T164356Z
LAST-MODIFIED:20250115T164356Z
UID:4853-1744459200-1744466400@kanepa.com
SUMMARY:Annual Adult Easter Egg Hunter at Flickerwood Winery
DESCRIPTION:Must be 21 to attend.
URL:https://kanepa.com/event/annual-adult-easter-egg-hunter-at-flickerwood-winery/
LOCATION:Flickerwood Wine Cellars & Cocktail Lounge\, 309 Flickerwood Rd\, Kane\, PA\, 16735\, United States
END:VEVENT
BEGIN:VEVENT
DTSTART;TZID=UTC:20250419T190000
DTEND;TZID=UTC:20250419T220000
DTSTAMP:20260424T132209
CREATED:20250305T155149Z
LAST-MODIFIED:20250305T155149Z
UID:4931-1745089200-1745100000@kanepa.com
SUMMARY:Live Music\, JB Unplugged at CJ Spirits
DESCRIPTION:
URL:https://kanepa.com/event/live-music-jb-unplugged-at-cj-spirits-6/
LOCATION:CJ Spirits\, 120 Willow Run Drive\, Kane\, PA\, 16735\, United States
END:VEVENT
BEGIN:VEVENT
DTSTART;TZID=UTC:20250426T100000
DTEND;TZID=UTC:20250426T110000
DTSTAMP:20260424T132209
CREATED:20250421T152619Z
LAST-MODIFIED:20250421T152619Z
UID:4953-1745661600-1745665200@kanepa.com
SUMMARY:Volunteer Information Session- Get Involved in Kane!
DESCRIPTION:Been looking to get more involved?\nVolunteer info session features over 20 organizations!\nDear Friend of KADC\, \nHave you been wanting to volunteer but don’t know how to get involved? \nOr maybe you’re not sure what organizations are looking for volunteers? \nDo you wonder if your talents and skills are needed somewhere? \nWhether you have an hour or endless time available\, we want to help you get connected! \nOn April 26th at 10 a.m. will be the first volunteer info session where interested people can come and learn about alllllllll of the opportunities out there. You will leave that day with a connection to the organization of their choice. \nCLICK HERE TO SIGN UP FOR VOLUNTEER INFORMATION SESSION ON 4/26 on the 3rd floor of the Six&Kane building (63 N. Fraley Street). \nThanks to funding from the Collins Foundation\, we have been recording people from 24 Kane area volunteer organizations sharing their mission and passion and WHY it matters to get involved. \nThe volunteer training involves the video\, a packet with all of the volunteer opportunities and info on all the organizations\, how much volunteer time is involved for each volunteer commitment\, and great conversation with others who attend! \nThis is something we plan to do quarterly. \nThis is for:\n✅ People new to our community looking to get plugged in\n✅ Recently retired people\n✅ High schoolers who need service hours\n✅ Busy professionals who want to nurture their volunteer interests outside of work and home life\n✅ Families who want to volunteer together\n✅ Anyone who has any time or talent to give \nWe are hopeful this can help bridge the gap between willing people and volunteer organizations in our community.
URL:https://kanepa.com/event/volunteer-information-session-get-involved-in-kane/
LOCATION:Six and Kane\, 63 North Fraley St\, Kane\, PA\, 16735\, United States
CATEGORIES:Community
END:VEVENT
BEGIN:VEVENT
DTSTART;TZID=UTC:20250426T110000
DTEND;TZID=UTC:20250426T223000
DTSTAMP:20260424T132209
CREATED:20250421T153058Z
LAST-MODIFIED:20250421T153058Z
UID:4956-1745665200-1745706600@kanepa.com
SUMMARY:Leekfest at CJ Spirits
DESCRIPTION:Come out on April 26th for the first festival in a series of exciting events in Kane\, PA! A day full of great food\, live music\, and fun for everyone! \n\n\n\nHere’s the lineup for the day:\n 1:00 – 4:00pm: Randy Andreano\n 4:00 – 7:00pm: Dagus Dan\n 7:30 – 10:30pm: MOJO DOGS\n\n\n Leek food served starting at 11:00am\n Leek Dip Contest from 12:00 – 3:00pm\n Napolis Pizza Truck will be serving up pizza starting at 3:00pm\n\n\n\nBring your friends\, family\, and appetite as we kick off spring at CJs!
URL:https://kanepa.com/event/leekfest-at-cj-spirits/
LOCATION:CJ Spirits\, 120 Willow Run Drive\, Kane\, PA\, 16735\, United States
CATEGORIES:Festival,Food,Music
ATTACH;FMTTYPE=image/jpeg:https://kanepa.com/wp-content/uploads/2025/04/Leekfest.jpg
END:VEVENT
BEGIN:VEVENT
DTSTART;TZID=UTC:20250426T120000
DTEND;TZID=UTC:20250426T153000
DTSTAMP:20260424T132209
CREATED:20250305T154458Z
LAST-MODIFIED:20250305T154458Z
UID:4928-1745668800-1745681400@kanepa.com
SUMMARY:Celebrate Trails Day at the Kane Manor Inn hosted by TAMED
DESCRIPTION:Light refreshments\, trail information\, membership applications\, and a TAMED sponsored shuttle to help get you out on the trail for a walk or bike ride back into town. Come have a fun afternoon with other trail enthusiasts!
URL:https://kanepa.com/event/celebrate-trails-day-at-the-kane-manor-inn-hosted-by-tamed/
LOCATION:Kane Manor Inn\, 230 Clay Street\, Kane\, PA\, 16735\, United States
END:VEVENT
BEGIN:VEVENT
DTSTART;TZID=UTC:20250509T080000
DTEND;TZID=UTC:20250509T160000
DTSTAMP:20260424T132209
CREATED:20250129T152349Z
LAST-MODIFIED:20250129T152349Z
UID:4873-1746777600-1746806400@kanepa.com
SUMMARY:KARE FOR KANE
DESCRIPTION:
URL:https://kanepa.com/event/kare-for-kane/
LOCATION:PA
CATEGORIES:Community
END:VEVENT
BEGIN:VEVENT
DTSTART;TZID=UTC:20250509T180000
DTEND;TZID=UTC:20250509T200000
DTSTAMP:20260424T132209
CREATED:20250219T162854Z
LAST-MODIFIED:20250219T162854Z
UID:4904-1746813600-1746820800@kanepa.com
SUMMARY:Family Fun Night at the Kane Community Center
DESCRIPTION:
URL:https://kanepa.com/event/family-fun-night-at-the-kane-community-center-2/
LOCATION:Kane Area Community Center\, 46 N. Fraley Street\, Kane\, PA\, 16735\, United States
END:VEVENT
BEGIN:VEVENT
DTSTART;TZID=UTC:20250510T100000
DTEND;TZID=UTC:20250510T120000
DTSTAMP:20260424T132209
CREATED:20250305T152813Z
LAST-MODIFIED:20250305T152813Z
UID:4924-1746871200-1746878400@kanepa.com
SUMMARY:Mother's Day Activity at Friends Memorial Library
DESCRIPTION:
URL:https://kanepa.com/event/mothers-day-activity-at-friends-memorial-library/
LOCATION:Friends Memorial Public Library\, 230 Chase Street\, Kane\, PA\, 16735\, United States
ATTACH;FMTTYPE=image/jpeg:https://kanepa.com/wp-content/uploads/2025/03/mothers-day.jpg
END:VEVENT
BEGIN:VEVENT
DTSTART;TZID=UTC:20250510T103000
DTEND;TZID=UTC:20250510T120000
DTSTAMP:20260424T132209
CREATED:20250311T152941Z
LAST-MODIFIED:20250311T152941Z
UID:4941-1746873000-1746878400@kanepa.com
SUMMARY:Mothers Day Sips\, Stems\, and Brunch at Flickerwood Winery
DESCRIPTION:Hosted by Flickerwood and Between the Pines Blooms and Botanicals. $45 per person and ticket includes a bottle of wine\, a bouquet of flowers\, and a brunch buffet. Reservations are needed in advance.
URL:https://kanepa.com/event/mothers-day-sips-stems-and-brunch-at-flickerwood-winery/
LOCATION:Flickerwood Wine Cellars & Cocktail Lounge\, 309 Flickerwood Rd\, Kane\, PA\, 16735\, United States
END:VEVENT
BEGIN:VEVENT
DTSTART;TZID=UTC:20250517T130000
DTEND;TZID=UTC:20250517T200000
DTSTAMP:20260424T132209
CREATED:20250218T161258Z
LAST-MODIFIED:20250218T161258Z
UID:4897-1747486800-1747512000@kanepa.com
SUMMARY:Cousins Maine Lobster Truck at Wilds Sonshine Factory
DESCRIPTION:
URL:https://kanepa.com/event/cousins-maine-lobster-truck-at-wilds-sonshine-factory/
LOCATION:Wilds Sonshine Factory\, 3480 Route 6 West\, Kane\, PA\, 16735\, United States
CATEGORIES:Food
END:VEVENT
BEGIN:VEVENT
DTSTART;TZID=UTC:20250523T110000
DTEND;TZID=UTC:20250525T200000
DTSTAMP:20260424T132209
CREATED:20250115T164919Z
LAST-MODIFIED:20250115T164919Z
UID:4854-1747998000-1748203200@kanepa.com
SUMMARY:25 Year Anniversary Party: FlickerFest 2025 at Flickerwood Winery
DESCRIPTION:Music\, Food\, Wine Tasting\, Pong\, Corn Hole\, Artesian\, Small Group classes\, and more TBD.
URL:https://kanepa.com/event/25-year-anniversary-party-flickerfest-2025-at-flickerwood-winery/
LOCATION:Flickerwood Wine Cellars & Cocktail Lounge\, 309 Flickerwood Rd\, Kane\, PA\, 16735\, United States
END:VEVENT
BEGIN:VEVENT
DTSTART;TZID=UTC:20250601T130000
DTEND;TZID=UTC:20250601T160000
DTSTAMP:20260424T132209
CREATED:20250527T153630Z
LAST-MODIFIED:20250527T154843Z
UID:4960-1748782800-1748793600@kanepa.com
SUMMARY:LIVE MUSIC: Mojo Dogs (Rock)
DESCRIPTION:Start your summer right with Mojo Dogs\, Kane’s own rock favorites playing classic and new rock hits from the ’60s to today.\n\n\nSunday\, June 1 | 1–4pm | O.G. Crawford Amphitheater\n Free & open to all Rain location: Thomas L. Kane Memorial Chapel\n\n\nCheck the calendar for the summer line up for free\, live music every Sunday from 1-4 p.m. June\, July\, and most of August!\n\n\nWe’ll see you there for a great Sunday afternoon of live music in beautiful Kane \n\n\nSummer concert series made possible thanks to PA Council on the Arts\, Trail Central | Allegheny National Forest Visitors Bureau\, Kane Rotary\, Kane Area Revitalization Enterprise\, and the Kane Chamber of Commerce.
URL:https://kanepa.com/event/live-music-mojo-dogs-2/
LOCATION:OG Crawford Ampitheatre\, Fraley Street\, Kane\, PA\, United States
CATEGORIES:Music
ATTACH;FMTTYPE=image/jpeg:https://kanepa.com/wp-content/uploads/2025/05/Mojo-Dogs.jpg
ORGANIZER;CN="Kane Chamber of Commerce":MAILTO:info@kanepa.com
END:VEVENT
BEGIN:VEVENT
DTSTART;TZID=UTC:20250608T130000
DTEND;TZID=UTC:20250608T160000
DTSTAMP:20260424T132209
CREATED:20250527T154438Z
LAST-MODIFIED:20250527T154438Z
UID:4962-1749387600-1749398400@kanepa.com
SUMMARY:LIVE MUSIC- Patty C (Polka)
DESCRIPTION:Get your dancing shoes on and come out for polka with Patty C.!\n\nSunday\, June 8 | 1–4pm | O.G. Crawford Amphitheater\n Free & open to all Rain location: Thomas L. Kane Memorial Chapel\n\nCheck the calendar for the summer line up for free\, live music every Sunday from 1-4 p.m. June\, July\, and most of August!\n\nWe’ll see you there for a great Sunday afternoon of live music in beautiful Kane \n\nSummer concert series made possible thanks to PA Council on the Arts\, Trail Central | Allegheny National Forest Visitors Bureau\, Kane Rotary\, Kane Area Revitalization Enterprise\, and the Kane Chamber of Commerce.
URL:https://kanepa.com/event/live-music-patty-c-polka/
LOCATION:OG Crawford Ampitheatre\, Fraley Street\, Kane\, PA\, United States
CATEGORIES:Music
ORGANIZER;CN="Kane Chamber of Commerce":MAILTO:info@kanepa.com
END:VEVENT
BEGIN:VEVENT
DTSTART;TZID=UTC:20250612T190000
DTEND;TZID=UTC:20250612T220000
DTSTAMP:20260424T132209
CREATED:20250611T153818Z
LAST-MODIFIED:20250611T153818Z
UID:4998-1749754800-1749765600@kanepa.com
SUMMARY:Pop Up Trivia at the Kane Elks
DESCRIPTION:Thursday\, June 12\, 2025 and the 2nd Thursday of each month. \n$20 entry for team up to 5 people.All registration money will be given to winner(s). Depending on number of teams\, there will be up to three winning teams. \nSome questions will be from Trivia Pursuit 2019\, others at the discretion of our esteemed moderator. \nCategories are Geography\, Entertainment\, History\, Arts & Literature\, Science & Technology\, Sports & Leisure. Other fun categories are meticulously developed by our moderator. \nMembers and guests. A member can sign up nonmembers to play.
URL:https://kanepa.com/event/pop-up-trivia-at-the-kane-elks/
LOCATION:Kane Elks Lodge 329\, 210 Chestnut Street\, Kane\, PA\, 16735\, United States
END:VEVENT
BEGIN:VEVENT
DTSTART;TZID=UTC:20250613T160000
DTEND;TZID=UTC:20250613T200000
DTSTAMP:20260424T132209
CREATED:20250611T152043Z
LAST-MODIFIED:20250611T152043Z
UID:4988-1749830400-1749844800@kanepa.com
SUMMARY:Drinks on the Veranda at The Kane Manor
DESCRIPTION:
URL:https://kanepa.com/event/drinks-on-the-veranda-at-the-kane-manor/
LOCATION:Kane Manor Inn\, 230 Clay Street\, Kane\, PA\, 16735\, United States
CATEGORIES:Music
ATTACH;FMTTYPE=image/jpeg:https://kanepa.com/wp-content/uploads/2025/06/503707188_1257664359701739_5612445974307908904_n.jpg
END:VEVENT
BEGIN:VEVENT
DTSTART;TZID=UTC:20250613T180000
DTEND;TZID=UTC:20250613T210000
DTSTAMP:20260424T132209
CREATED:20250611T154401Z
LAST-MODIFIED:20250611T154401Z
UID:5001-1749837600-1749848400@kanepa.com
SUMMARY:Live Music\, Kallie Williams at Wilds Sonshine Factory
DESCRIPTION:
URL:https://kanepa.com/event/live-music-kallie-williams-at-wilds-sonshine-factory-2/
LOCATION:Wilds Sonshine Factory\, 3480 Route 6 West\, Kane\, PA\, 16735\, United States
END:VEVENT
BEGIN:VEVENT
DTSTART;TZID=UTC:20250613T200000
DTEND;TZID=UTC:20250613T230000
DTSTAMP:20260424T132209
CREATED:20250611T150921Z
LAST-MODIFIED:20250611T150921Z
UID:4983-1749844800-1749855600@kanepa.com
SUMMARY:Live Music\, KUNSEY at Twisted Vine Winery
DESCRIPTION:
URL:https://kanepa.com/event/live-music-kunsey-at-twisted-vine-winery/
LOCATION:Twisted Vine Winery\, 117 N Fraley St\, Kane\, PA\, 16735
CATEGORIES:Music
END:VEVENT
BEGIN:VEVENT
DTSTART;TZID=UTC:20250614T103000
DTEND;TZID=UTC:20250614T120000
DTSTAMP:20260424T132209
CREATED:20250611T144707Z
LAST-MODIFIED:20250611T144707Z
UID:4978-1749897000-1749902400@kanepa.com
SUMMARY:Storytime and Craft at Friends Memorial Library
DESCRIPTION:Rosemary Long Ears \n 
URL:https://kanepa.com/event/storytime-and-craft-at-friends-memorial-library/
LOCATION:Friends Memorial Public Library\, 230 Chase Street\, Kane\, PA\, 16735\, United States
ATTACH;FMTTYPE=image/jpeg:https://kanepa.com/wp-content/uploads/2025/06/0939_001-scaled.jpg
END:VEVENT
BEGIN:VEVENT
DTSTART;TZID=UTC:20250615T130000
DTEND;TZID=UTC:20250615T160000
DTSTAMP:20260424T132209
CREATED:20250527T155237Z
LAST-MODIFIED:20250527T155237Z
UID:4963-1749992400-1750003200@kanepa.com
SUMMARY:LIVE MUSIC: Reece Gustafson (New Country)
DESCRIPTION:Enjoy a summer afternoon with some new country played by Reece Gustafson!\n\nSunday\, June 15| 1–4pm | O.G. Crawford Amphitheater\n Free & open to all Rain location: Thomas L. Kane Memorial Chapel\n\nCheck the calendar for the summer line up for free\, live music every Sunday from 1-4 p.m. June\, July\, and most of August!\n\nWe’ll see you there for a great Sunday afternoon of live music in beautiful Kane \n\nSummer concert series made possible thanks to PA Council on the Arts\, Trail Central | Allegheny National Forest Visitors Bureau\, Kane Rotary\, Kane Area Revitalization Enterprise\, and the Kane Chamber of Commerce.
URL:https://kanepa.com/event/live-music-reece-gustafson-new-country/
LOCATION:OG Crawford Ampitheatre\, Fraley Street\, Kane\, PA\, United States
CATEGORIES:Music
ORGANIZER;CN="Kane Chamber of Commerce":MAILTO:info@kanepa.com
END:VEVENT
BEGIN:VEVENT
DTSTART;TZID=UTC:20250615T160000
DTEND;TZID=UTC:20250615T190000
DTSTAMP:20260424T132209
CREATED:20250611T154456Z
LAST-MODIFIED:20250611T154456Z
UID:5002-1750003200-1750014000@kanepa.com
SUMMARY:Live Music\, Kallie Williams at Table 105
DESCRIPTION:
URL:https://kanepa.com/event/live-music-kallie-williams-at-table-105-4/
LOCATION:Table 105\, 105 N Fraley St\, Kane\, PA
END:VEVENT
BEGIN:VEVENT
DTSTART;TZID=UTC:20250616T160000
DTEND;TZID=UTC:20250616T183000
DTSTAMP:20260424T132209
CREATED:20250611T153640Z
LAST-MODIFIED:20250611T153640Z
UID:4997-1750089600-1750098600@kanepa.com
SUMMARY:BBQ Ribs Dinner at Wildcat Park
DESCRIPTION:A BBQ ribs dinner event will take place at Wildcat Park on Monday\, June 16th\, starting at 4pm. The dinner will feature macaroni salad\, baked beans\, and a variety of homemade desserts. Dinner is $15.00\, with dining in at the DeForest Pavilion or take out.
URL:https://kanepa.com/event/bbq-ribs-dinner-at-wildcat-park/
LOCATION:Wildcat Park\, 896 Olmsted Road\, Ludlow\, PA\, United States
END:VEVENT
BEGIN:VEVENT
DTSTART;TZID=UTC:20250619T180000
DTEND;TZID=UTC:20250619T190000
DTSTAMP:20260424T132209
CREATED:20250618T152507Z
LAST-MODIFIED:20250618T152507Z
UID:5017-1750356000-1750359600@kanepa.com
SUMMARY:Microgreens presentation at Friends Memorial Library
DESCRIPTION:
URL:https://kanepa.com/event/microgreens-presentation-at-friends-memorial-library/
LOCATION:Friends Memorial Public Library\, 230 Chase Street\, Kane\, PA\, 16735\, United States
ATTACH;FMTTYPE=image/jpeg:https://kanepa.com/wp-content/uploads/2025/06/506735608_702184335898248_283674256596192658_n.jpg
END:VEVENT
END:VCALENDAR