BEGIN:VCALENDAR
VERSION:2.0
PRODID:-// - ECPv6.11.2.1//NONSGML v1.0//EN
CALSCALE:GREGORIAN
METHOD:PUBLISH
X-ORIGINAL-URL:https://kanepa.com
X-WR-CALDESC:Events for 
REFRESH-INTERVAL;VALUE=DURATION:PT1H
X-Robots-Tag:noindex
X-PUBLISHED-TTL:PT1H
BEGIN:VTIMEZONE
TZID:UTC
BEGIN:STANDARD
TZOFFSETFROM:+0000
TZOFFSETTO:+0000
TZNAME:UTC
DTSTART:20240101T000000
END:STANDARD
END:VTIMEZONE
BEGIN:VEVENT
DTSTART;VALUE=DATE:20240427
DTEND;VALUE=DATE:20240512
DTSTAMP:20260424T132919
CREATED:20240424T225604Z
LAST-MODIFIED:20240424T225604Z
UID:4350-1714176000-1715471999@kanepa.com
SUMMARY:Book Sale at Friends Memorial Library
DESCRIPTION:Spring into Reading Book Sale \nTimes May Vary \nhttps://www.facebook.com/photo?fbid=406981815418503&set=a.131347346315286
URL:https://kanepa.com/event/book-sale-at-friends-memorial-library/
LOCATION:Friends Memorial Public Library\, 230 Chase Street\, Kane\, PA\, 16735\, United States
CATEGORIES:Community,Educational,Family Friendly,Fund Raiser,Shopping
END:VEVENT
END:VCALENDAR